BEGIN:VCALENDAR
VERSION:2.0
PRODID:-//TITIAYOGA - ECPv5.6.0//NONSGML v1.0//EN
CALSCALE:GREGORIAN
METHOD:PUBLISH
X-WR-CALNAME:TITIAYOGA
X-ORIGINAL-URL:https://titiayoga.com
X-WR-CALDESC:Events for TITIAYOGA
BEGIN:VTIMEZONE
TZID:Europe/Paris
BEGIN:DAYLIGHT
TZOFFSETFROM:+0100
TZOFFSETTO:+0200
TZNAME:CEST
DTSTART:20250330T010000
END:DAYLIGHT
BEGIN:STANDARD
TZOFFSETFROM:+0200
TZOFFSETTO:+0100
TZNAME:CET
DTSTART:20251026T010000
END:STANDARD
END:VTIMEZONE
BEGIN:VEVENT
DTSTART;TZID=Europe/Paris:20251104T180000
DTEND;TZID=Europe/Paris:20251104T190000
DTSTAMP:20260422T103515
CREATED:20221222T220940Z
LAST-MODIFIED:20251010T093559Z
UID:23036-1762279200-1762282800@titiayoga.com
SUMMARY:SOINS ENERGETIQUE VIBRATOIRES "Libérer les mémoires familiales"
DESCRIPTION:[vc_row][vc_column][vc_btn title= »RESERVER » i_icon_fontawesome= »fas fa-calendar-check » add_icon= »true » link= »url:https%3A%2F%2Ftitiayoga.com%2Fcontactez-moi-pour-infos-et-rdv%2F|title:Contactez-moi%20pour%20infos%20ou%20rdv »][vc_column_text][/vc_column_text][/vc_column][/vc_row][vc_row][vc_column][vc_column_text]25 euros la séance\, matériel compris\, au sein d’un petit groupe de 7 personnes. \nToute séance est DUE si l’annulation n’est pas effectuée 48 heures à l’avance. Séance ni modifiable\, ni remboursable\, SANS EXCEPTION. \nSi la séance est annulée avant 48 heures\, elle est reportable UNE SEULE FOIS pendant 6 mois.[/vc_column_text][/vc_column][/vc_row]
URL:https://titiayoga.com/event/meditation-relax-tirage-de-cartes-2-4-3-2-2-2-2-3-2-3-2-2-3-2-5-2-2-2-3-3-3-4-3-2-5-3-2-2-3-2-2-2-3-2-2-3-2-2-4-2-3-2-3-2-2-2-2/
LOCATION:Plage Talmont Saint Hilaire\, La Guittière
ATTACH;FMTTYPE=image/jpeg:https://titiayoga.com/wp-content/uploads/2021/05/tarifs-titia-yoga.jpg
END:VEVENT
BEGIN:VEVENT
DTSTART;TZID=Europe/Paris:20251107T110000
DTEND;TZID=Europe/Paris:20251107T121500
DTSTAMP:20260422T103515
CREATED:20221222T231209Z
LAST-MODIFIED:20251008T170841Z
UID:23198-1762513200-1762517700@titiayoga.com
SUMMARY:YOGA MEDITATIF - Oracles (postures douces)
DESCRIPTION:[vc_row][vc_column][vc_btn title= »RESERVER » i_icon_fontawesome= »fas fa-calendar-check » add_icon= »true » link= »url:https%3A%2F%2Ftitiayoga.com%2Fcontactez-moi-pour-infos-et-rdv%2F »][vc_column_text]25 euros la séance d’1h15\, matériel compris\, au sein d’un petit groupe de 6 à 7 personnes \nToute séance est DUE si l’annulation n’est pas effectuée 48 heures à l’avance. Séance ni modifiable\, ni remboursable\, SANS EXCEPTION. \nSi la séance est annulée avant 48 heures\, elle est reportable UNE SEULE FOIS pendant 6 mois.[/vc_column_text][/vc_column][/vc_row]
URL:https://titiayoga.com/event/yoga-sagesse-seniors-3-2-2-2-2-2-2-2-2-2-3-2-2-3-2-3-2-3-4-2-2-2-2-2-2-2-2-2-14-2-2-2-2-2-3-2-2-2-2-2-2-2-2-3-2-2-2-2-2-2-2-2-2-2-3-3-2-2-2-2-3-3/
LOCATION:Salle Cocoon 150 avenue de Luçon Talmont Saint Hilaire
ATTACH;FMTTYPE=image/jpeg:https://titiayoga.com/wp-content/uploads/2021/03/titia-yoga-fertilite-1.jpg
END:VEVENT
BEGIN:VEVENT
DTSTART;TZID=Europe/Paris:20251112T143000
DTEND;TZID=Europe/Paris:20251112T153000
DTSTAMP:20260422T103515
CREATED:20221222T234815Z
LAST-MODIFIED:20251019T090025Z
UID:22825-1762957800-1762961400@titiayoga.com
SUMMARY:YOGA ENFANTS (7-11ans)
DESCRIPTION:[vc_row][vc_column][vc_btn title= »RESERVER » i_icon_fontawesome= »fas fa-calendar-check » add_icon= »true » link= »url:https%3A%2F%2Ftitiayoga.com%2Fcontactez-moi-pour-infos-et-rdv%2F »][/vc_column][/vc_row][vc_row][vc_column][vc_column_text]22 euros la séance. \nEn cas d’annulation\, merci de me prévenir 48 heures à l’avance. La séance sera reportable une seule fois\, dans un délai de 6 mois.\nSi l’annulation n’est pas effectuée 48 heures avant\, la séance sera dûe\, ni remboursable\, ni échangeable\, sans exception.\n[/vc_column_text][/vc_column][/vc_row]
URL:https://titiayoga.com/event/yoga-7-12-ans-4-5-2-2-2-2-2-2-2-2-2-3-2-2-5-2-2-3-2-2-2-2-3-2-2-2-2-3-2-2-2-2-2-2-2-2-2-2-2-2/
LOCATION:Salle Cocoon 150 avenue de Luçon Talmont Saint Hilaire
ATTACH;FMTTYPE=image/jpeg:https://titiayoga.com/wp-content/uploads/2021/03/0151_Cours_yoga_itinerant-151-scaled.jpg
END:VEVENT
BEGIN:VEVENT
DTSTART;TZID=Europe/Paris:20251112T163000
DTEND;TZID=Europe/Paris:20251112T173000
DTSTAMP:20260422T103515
CREATED:20221222T235224Z
LAST-MODIFIED:20251020T095321Z
UID:23508-1762965000-1762968600@titiayoga.com
SUMMARY:YOGA FAMILLE (3-12 ans)
DESCRIPTION:[vc_row][vc_column][vc_btn title= »RESERVER » i_icon_fontawesome= »fas fa-calendar-check » add_icon= »true » link= »url:https%3A%2F%2Ftitiayoga.com%2Fcontactez-moi-pour-infos-et-rdv%2F »][vc_column_text][/vc_column_text][vc_column_text]Dès 3 ans à 12 ans. \n20 euros par personne. \nAnnulation 48 h à l’avance sinon la séance est dûe : non modifiable\, non remboursable\, sans exception. \nSéance annulée 48 heures avant : la séance est reportable 1 seule fois à votre convenance\, pendant 6 mois.[/vc_column_text][/vc_column][/vc_row]
URL:https://titiayoga.com/event/yoga-parents-enfants-proches-4-3-3-2-2-2-3-2-2-3-2-2-4-2-2-2-2-2-2-2-5-2-3-2-2-4-2-3-2-2-2-4-2-3-8-2-2-3-2-2-3-2-2-2-2-2-2-3-2-3-3-2-2-2-2-2-3-2/
LOCATION:Salle Cocoon 150 avenue de Luçon Talmont Saint Hilaire
ATTACH;FMTTYPE=image/jpeg:https://titiayoga.com/wp-content/uploads/2021/03/titia-yoga-enfant-3.jpg
END:VEVENT
BEGIN:VEVENT
DTSTART;TZID=Europe/Paris:20251114T150000
DTEND;TZID=Europe/Paris:20251114T160000
DTSTAMP:20260422T103515
CREATED:20221222T220940Z
LAST-MODIFIED:20251111T141413Z
UID:23552-1763132400-1763136000@titiayoga.com
SUMMARY:VOYAGE SONORE
DESCRIPTION:[vc_row][vc_column][vc_btn title= »RESERVER » i_icon_fontawesome= »fas fa-calendar-check » add_icon= »true » link= »url:https%3A%2F%2Ftitiayoga.com%2Fcontactez-moi-pour-infos-et-rdv%2F|title:Contactez-moi%20pour%20infos%20ou%20rdv »][vc_column_text][/vc_column_text][/vc_column][/vc_row][vc_row][vc_column][vc_column_text]25 euros la séance\, matériel compris\, au sein d’un petit groupe de 7 personnes. \nToute séance est DUE si l’annulation n’est pas effectuée 48 heures à l’avance. Séance ni modifiable\, ni remboursable\, SANS EXCEPTION. \nSi la séance est annulée avant 48 heures\, elle est reportable UNE SEULE FOIS pendant 6 mois.[/vc_column_text][/vc_column][/vc_row]
URL:https://titiayoga.com/event/meditation-relax-tirage-de-cartes-2-4-3-2-2-2-2-3-2-3-2-2-3-2-5-2-2-2-3-3-3-4-3-2-5-3-2-2-3-2-2-2-3-2-2-3-2-2-4-2-3-2-3-2-2-3-3-2-2-2/
LOCATION:Salle Cocoon 150 avenue de Luçon Talmont Saint Hilaire
ATTACH;FMTTYPE=image/jpeg:https://titiayoga.com/wp-content/uploads/2021/05/tarifs-titia-yoga.jpg
END:VEVENT
BEGIN:VEVENT
DTSTART;TZID=Europe/Paris:20251117T180000
DTEND;TZID=Europe/Paris:20251117T190000
DTSTAMP:20260422T103515
CREATED:20221222T220940Z
LAST-MODIFIED:20251111T141332Z
UID:23548-1763402400-1763406000@titiayoga.com
SUMMARY:MEDITATION CHEMIN DE VIE DE VOS ENFANTS - ORACLES
DESCRIPTION:[vc_row][vc_column][vc_btn title= »RESERVER » i_icon_fontawesome= »fas fa-calendar-check » add_icon= »true » link= »url:https%3A%2F%2Ftitiayoga.com%2Fcontactez-moi-pour-infos-et-rdv%2F|title:Contactez-moi%20pour%20infos%20ou%20rdv »][vc_column_text][/vc_column_text][/vc_column][/vc_row][vc_row][vc_column][vc_column_text]22 euros la séance\, matériel compris\, au sein d’un petit groupe de 7 personnes. \nToute séance est DUE si l’annulation n’est pas effectuée 48 heures à l’avance. Séance ni modifiable\, ni remboursable\, SANS EXCEPTION. \nSi la séance est annulée avant 48 heures\, elle est reportable UNE SEULE FOIS pendant 6 mois.[/vc_column_text][/vc_column][/vc_row]
URL:https://titiayoga.com/event/meditation-relax-tirage-de-cartes-2-4-3-2-2-2-2-3-2-3-2-2-3-2-5-2-2-2-3-3-3-4-3-2-5-3-2-2-3-2-2-2-3-2-2-3-2-2-4-2-3-2-3-2-3-2-2/
LOCATION:Salle Cocoon 150 avenue de Luçon Talmont Saint Hilaire
ATTACH;FMTTYPE=image/jpeg:https://titiayoga.com/wp-content/uploads/2021/05/tarifs-titia-yoga.jpg
END:VEVENT
BEGIN:VEVENT
DTSTART;TZID=Europe/Paris:20251118T170000
DTEND;TZID=Europe/Paris:20251118T180000
DTSTAMP:20260422T103515
CREATED:20221222T220940Z
LAST-MODIFIED:20251111T141524Z
UID:23550-1763485200-1763488800@titiayoga.com
SUMMARY:VOYAGE SONORE
DESCRIPTION:[vc_row][vc_column][vc_btn title= »RESERVER » i_icon_fontawesome= »fas fa-calendar-check » add_icon= »true » link= »url:https%3A%2F%2Ftitiayoga.com%2Fcontactez-moi-pour-infos-et-rdv%2F|title:Contactez-moi%20pour%20infos%20ou%20rdv »][vc_column_text][/vc_column_text][/vc_column][/vc_row][vc_row][vc_column][vc_column_text]25 euros la séance\, matériel compris\, au sein d’un petit groupe de 7 personnes. \nToute séance est DUE si l’annulation n’est pas effectuée 48 heures à l’avance. Séance ni modifiable\, ni remboursable\, SANS EXCEPTION. \nSi la séance est annulée avant 48 heures\, elle est reportable UNE SEULE FOIS pendant 6 mois.[/vc_column_text][/vc_column][/vc_row]
URL:https://titiayoga.com/event/meditation-relax-tirage-de-cartes-2-4-3-2-2-2-2-3-2-3-2-2-3-2-5-2-2-2-3-3-3-4-3-2-5-3-2-2-3-2-2-2-3-2-2-3-2-2-4-2-3-2-3-2-2-3-3-2-2/
LOCATION:Salle Cocoon 150 avenue de Luçon Talmont Saint Hilaire
ATTACH;FMTTYPE=image/jpeg:https://titiayoga.com/wp-content/uploads/2021/05/tarifs-titia-yoga.jpg
END:VEVENT
BEGIN:VEVENT
DTSTART;TZID=Europe/Paris:20251120T104500
DTEND;TZID=Europe/Paris:20251120T120000
DTSTAMP:20260422T103515
CREATED:20221222T220940Z
LAST-MODIFIED:20251021T152927Z
UID:23543-1763635500-1763640000@titiayoga.com
SUMMARY:LE SECRET DES BOLS CHANTANTS
DESCRIPTION:[vc_row][vc_column][vc_btn title= »RESERVER » i_icon_fontawesome= »fas fa-calendar-check » add_icon= »true » link= »url:https%3A%2F%2Ftitiayoga.com%2Fcontactez-moi-pour-infos-et-rdv%2F|title:Contactez-moi%20pour%20infos%20ou%20rdv »][vc_column_text][/vc_column_text][/vc_column][/vc_row][vc_row][vc_column][vc_column_text]40 euros la séance d’1h15\, en petit comité \nSéance annulable 48 heures avant\, reportable 1 seule fois sous 6 mois. \nSéance DUE si l’annulation n’est pas effectuée avant 48 heures\, SANS EXCEPTION\, ni modifiable\, ni reportable.[/vc_column_text][/vc_column][/vc_row]
URL:https://titiayoga.com/event/meditation-relax-tirage-de-cartes-2-4-3-2-2-2-2-3-2-3-2-2-3-2-5-2-2-2-3-3-3-4-3-2-5-3-2-2-3-2-2-2-3-2-2-3-2-2-4-4-3-2-2-2/
LOCATION:Salle Cocoon 150 avenue de Luçon Talmont Saint Hilaire
ATTACH;FMTTYPE=image/jpeg:https://titiayoga.com/wp-content/uploads/2021/05/tarifs-titia-yoga.jpg
END:VEVENT
BEGIN:VEVENT
DTSTART;TZID=Europe/Paris:20251120T144500
DTEND;TZID=Europe/Paris:20251120T160000
DTSTAMP:20260422T103515
CREATED:20221222T231209Z
LAST-MODIFIED:20251020T102718Z
UID:23545-1763649900-1763654400@titiayoga.com
SUMMARY:YOGA MEDITATIF - Oracles (postures douces)
DESCRIPTION:[vc_row][vc_column][vc_btn title= »RESERVER » i_icon_fontawesome= »fas fa-calendar-check » add_icon= »true » link= »url:https%3A%2F%2Ftitiayoga.com%2Fcontactez-moi-pour-infos-et-rdv%2F »][vc_column_text]25 euros la séance d’1h15\, matériel compris\, au sein d’un petit groupe de 6 à 7 personnes \nToute séance est DUE si l’annulation n’est pas effectuée 48 heures à l’avance. Séance ni modifiable\, ni remboursable\, SANS EXCEPTION. \nSi la séance est annulée avant 48 heures\, elle est reportable UNE SEULE FOIS pendant 6 mois.[/vc_column_text][/vc_column][/vc_row]
URL:https://titiayoga.com/event/yoga-sagesse-seniors-3-2-2-2-2-2-2-2-2-2-3-2-2-3-2-3-2-3-4-2-2-2-2-2-2-2-2-2-14-2-2-2-2-2-3-2-2-2-2-2-2-2-2-3-2-2-2-2-2-2-2-2-2-2-3-3-2-2-2-2-3-3-3-2/
LOCATION:Salle Cocoon 150 avenue de Luçon Talmont Saint Hilaire
ATTACH;FMTTYPE=image/jpeg:https://titiayoga.com/wp-content/uploads/2021/03/titia-yoga-fertilite-1.jpg
END:VEVENT
BEGIN:VEVENT
DTSTART;TZID=Europe/Paris:20251121T143000
DTEND;TZID=Europe/Paris:20251121T160000
DTSTAMP:20260422T103515
CREATED:20221222T220940Z
LAST-MODIFIED:20251021T153059Z
UID:23260-1763735400-1763740800@titiayoga.com
SUMMARY:CERCLE D'ENTREPRENEURS
DESCRIPTION:[vc_row][vc_column][vc_btn title= »RESERVER » i_icon_fontawesome= »fas fa-calendar-check » add_icon= »true » link= »url:https%3A%2F%2Ftitiayoga.com%2Fcontactez-moi-pour-infos-et-rdv%2F|title:Contactez-moi%20pour%20infos%20ou%20rdv »][vc_column_text][/vc_column_text][/vc_column][/vc_row][vc_row][vc_column][vc_column_text]45 euros la séance d’1h30\, en petit comité \nSéance annulable 48 heures avant\, reportable 1 seule fois sous 6 mois. \nSéance DUE si l’annulation n’est pas effectuée avant 48 heures\, SANS EXCEPTION\, ni modifiable\, ni reportable.[/vc_column_text][/vc_column][/vc_row]
URL:https://titiayoga.com/event/meditation-relax-tirage-de-cartes-2-4-3-2-2-2-2-3-2-3-2-2-3-2-5-2-2-2-3-3-3-4-3-2-5-3-2-2-3-2-2-2-3-2-2-3-2-2-4-4-3-2-4/
LOCATION:Salle Cocoon 150 avenue de Luçon Talmont Saint Hilaire
ATTACH;FMTTYPE=image/jpeg:https://titiayoga.com/wp-content/uploads/2021/05/tarifs-titia-yoga.jpg
END:VEVENT
BEGIN:VEVENT
DTSTART;TZID=Europe/Paris:20251124T170000
DTEND;TZID=Europe/Paris:20251124T180000
DTSTAMP:20260422T103515
CREATED:20221222T235224Z
LAST-MODIFIED:20251021T151805Z
UID:23171-1764003600-1764007200@titiayoga.com
SUMMARY:MEDITATION FAMILLE (10-15 ans)-Oracles "Sérénité"
DESCRIPTION:[vc_row][vc_column][vc_btn title= »RESERVER » i_icon_fontawesome= »fas fa-calendar-check » add_icon= »true » link= »url:https%3A%2F%2Ftitiayoga.com%2Fcontactez-moi-pour-infos-et-rdv%2F »][vc_column_text][/vc_column_text][vc_column_text]Dès 3 ans à 12 ans. \n20 euros par personne. \nAnnulation 48 h à l’avance sinon la séance est dûe : non modifiable\, non remboursable\, sans exception. \nSéance annulée 48 heures avant : la séance est reportable 1 seule fois à votre convenance\, pendant 6 mois.[/vc_column_text][/vc_column][/vc_row]
URL:https://titiayoga.com/event/yoga-parents-enfants-proches-4-3-3-2-2-2-3-2-2-3-2-2-4-2-2-2-2-2-2-2-5-2-3-2-2-4-2-3-2-2-2-4-2-3-8-2-2-3-2-2-3-2-2-2-2-2-2-3-2-3-3-2-2-2-2-2-2-3/
LOCATION:Salle Cocoon 150 avenue de Luçon Talmont Saint Hilaire
ATTACH;FMTTYPE=image/jpeg:https://titiayoga.com/wp-content/uploads/2021/03/titia-yoga-enfant-3.jpg
END:VEVENT
BEGIN:VEVENT
DTSTART;TZID=Europe/Paris:20251125T180000
DTEND;TZID=Europe/Paris:20251125T190000
DTSTAMP:20260422T103515
CREATED:20221222T220940Z
LAST-MODIFIED:20251111T141254Z
UID:23236-1764093600-1764097200@titiayoga.com
SUMMARY:MEDITATION - RELAX - ORACLES "Apaiser les mémoires familiales"
DESCRIPTION:[vc_row][vc_column][vc_btn title= »RESERVER » i_icon_fontawesome= »fas fa-calendar-check » add_icon= »true » link= »url:https%3A%2F%2Ftitiayoga.com%2Fcontactez-moi-pour-infos-et-rdv%2F|title:Contactez-moi%20pour%20infos%20ou%20rdv »][vc_column_text][/vc_column_text][/vc_column][/vc_row][vc_row][vc_column][vc_column_text]20 euros la séance\, matériel compris\, au sein d’un petit groupe de 7 personnes.\nCarnet de 5 séances à 95 euros/personne (valable 6 mois). \nAnnulation 48 h à l’avance sinon la séance est dûe : non modifiable\, non remboursable\, sans exception. \nSéance annulée 48 heures avant : la séance est reportable 1 seule fois à votre convenance\, pendant 6 mois.[/vc_column_text][/vc_column][/vc_row]
URL:https://titiayoga.com/event/meditation-relax-tirage-de-cartes-2-4-3-2-2-2-2-3-2-3-2-2-3-2-5-2-2-2-3-3-3-4-3-2-5-3-2-2-3-2-2-2-2-2-2-2-2-2-2-2-2-2-3-2-5-2-3-2-2/
LOCATION:Salle Cocoon 150 avenue de Luçon Talmont Saint Hilaire
ATTACH;FMTTYPE=image/jpeg:https://titiayoga.com/wp-content/uploads/2021/05/tarifs-titia-yoga.jpg
END:VEVENT
END:VCALENDAR