BEGIN:VCALENDAR
VERSION:2.0
PRODID:-//TITIAYOGA - ECPv5.6.0//NONSGML v1.0//EN
CALSCALE:GREGORIAN
METHOD:PUBLISH
X-WR-CALNAME:TITIAYOGA
X-ORIGINAL-URL:https://titiayoga.com
X-WR-CALDESC:Events for TITIAYOGA
BEGIN:VTIMEZONE
TZID:Europe/Paris
BEGIN:DAYLIGHT
TZOFFSETFROM:+0100
TZOFFSETTO:+0200
TZNAME:CEST
DTSTART:20250330T010000
END:DAYLIGHT
BEGIN:STANDARD
TZOFFSETFROM:+0200
TZOFFSETTO:+0100
TZNAME:CET
DTSTART:20251026T010000
END:STANDARD
END:VTIMEZONE
BEGIN:VEVENT
DTSTART;TZID=Europe/Paris:20250902T180000
DTEND;TZID=Europe/Paris:20250902T190000
DTSTAMP:20260422T115636
CREATED:20221222T220940Z
LAST-MODIFIED:20250804T114005Z
UID:21752-1756836000-1756839600@titiayoga.com
SUMMARY:MEDITATION-RELAX-ORACLES
DESCRIPTION:[vc_row][vc_column][vc_btn title= »RESERVER » i_icon_fontawesome= »fas fa-calendar-check » add_icon= »true » link= »url:https%3A%2F%2Ftitiayoga.com%2Fcontactez-moi-pour-infos-et-rdv%2F|title:Contactez-moi%20pour%20infos%20ou%20rdv »][vc_column_text][/vc_column_text][/vc_column][/vc_row][vc_row][vc_column][vc_column_text]25 euros la séance\, matériel compris\, au sein d’un petit groupe de 7 personnes \nToute séance est DUE si l’annulation n’est pas effectuée 48 heures à l’avance. Séance ni modifiable\, ni remboursable\, SANS EXCEPTION. \nSi la séance est annulée avant 48 heures\, elle est reportable UNE SEULE FOIS pendant 6 mois.[/vc_column_text][/vc_column][/vc_row]
URL:https://titiayoga.com/event/meditation-relax-tirage-de-cartes-2-4-3-2-2-2-2-3-2-3-2-2-3-2-5-2-2-2-3-3-3-4-3-2-5-3-2-2-3-2-2-2-2-2-2-2-2-2-2-2-2-2-3-2-5-3/
LOCATION:Salle Cocoon 150 avenue de Luçon Talmont Saint Hilaire
ATTACH;FMTTYPE=image/jpeg:https://titiayoga.com/wp-content/uploads/2021/05/tarifs-titia-yoga.jpg
END:VEVENT
BEGIN:VEVENT
DTSTART;TZID=Europe/Paris:20250905T144500
DTEND;TZID=Europe/Paris:20250905T160000
DTSTAMP:20260422T115636
CREATED:20221222T231209Z
LAST-MODIFIED:20250825T065953Z
UID:21767-1757083500-1757088000@titiayoga.com
SUMMARY:YOGA MEDITATIF - Oracles
DESCRIPTION:[vc_row][vc_column][vc_btn title= »RESERVER » i_icon_fontawesome= »fas fa-calendar-check » add_icon= »true » link= »url:https%3A%2F%2Ftitiayoga.com%2Fcontactez-moi-pour-infos-et-rdv%2F »][vc_column_text]25 euros la séance d’1h15\, matériel compris\, au sein d’un petit groupe de 6 à 7 personnes \nToute séance est DUE si l’annulation n’est pas effectuée 48 heures à l’avance. Séance ni modifiable\, ni remboursable\, SANS EXCEPTION. \nSi la séance est annulée avant 48 heures\, elle est reportable UNE SEULE FOIS pendant 6 mois.[/vc_column_text][/vc_column][/vc_row]
URL:https://titiayoga.com/event/yoga-sagesse-seniors-3-2-2-2-2-2-2-2-2-2-3-2-2-3-2-3-2-3-4-2-2-2-2-2-2-2-2-2-14-2-2-2-2-2-3-2-2-2-2-2-2-2-2-3-2-2-2-2-2-2-2-2-2-2-3-3-2/
LOCATION:Salle Cocoon 150 avenue de Luçon Talmont Saint Hilaire
ATTACH;FMTTYPE=image/jpeg:https://titiayoga.com/wp-content/uploads/2021/03/titia-yoga-fertilite-1.jpg
END:VEVENT
BEGIN:VEVENT
DTSTART;TZID=Europe/Paris:20250908T150000
DTEND;TZID=Europe/Paris:20250908T160000
DTSTAMP:20260422T115636
CREATED:20221222T220940Z
LAST-MODIFIED:20250810T090825Z
UID:22137-1757343600-1757347200@titiayoga.com
SUMMARY:RDV INDIVIDUEL ou Duo
DESCRIPTION:[vc_row][vc_column][vc_btn title= »RESERVER » i_icon_fontawesome= »fas fa-calendar-check » add_icon= »true » link= »url:https%3A%2F%2Ftitiayoga.com%2Fcontactez-moi-pour-infos-et-rdv%2F|title:Contactez-moi%20pour%20infos%20ou%20rdv »][vc_column_text][/vc_column_text][/vc_column][/vc_row][vc_row][vc_column][vc_column_text] \n\n\n\n\n\nSUR RDVS  :\n\n\n\nSOINS ENERGETIQUES :\nAdulte : 70 euros\nPrénatal-Postnatal : 70 euros\nEnfant et 𝖠𝖽𝗈 : 65 euros\nParent-Enfant « Coeur à coeur » : 75 euros\n\nSERENITE OCEAN : 70 euros\nELEVE TES VIBRATIONS : 70 euros\n\n\nGUIDANCE CHEMIN DE VIE-ORACLES : 70 euros\n\n\n\nYOGA :\nindividuel : 70 euros\nen duo 1h15 : 95 euros\n\nPrénatal et PostNatal : 1h 65 euros\, 1h30 75 euros\n\n𝑭𝑨𝑴𝑰𝑳𝑳𝑬  :\n-𝖸OGA BEBE (0-18 mois) ou MASSAGE BEBE : 70 euros en duo\n-𝖡EBERELAX (𝖬𝖺𝗌𝗌𝖺𝗀𝖾 𝖡ébé + 𝖸𝗈𝗀𝖺 𝖡ébé + 𝖢𝗈𝗇𝖼𝖾𝗉𝗍𝗂𝗈𝗇 𝗁𝗎𝗂𝗅𝖾 𝗏é𝗀é𝗍𝖺𝗅𝖾 𝟣𝟢𝟢% 𝗇𝖺𝗍𝗎𝗋𝖾𝗅𝗅𝖾) 75 euros\n-GUIDANCE MAMAN-BEBE: soutien à la parentalité+selon vos souhaits : massage bébé\, yoga bébé\, bébédanse. 70 euros\n– 𝖸OGA FAMILLE (+18 mois- ado) : 75 euros en duo\n\n\n\n\n\n\n\n[/vc_column_text][/vc_column][/vc_row]
URL:https://titiayoga.com/event/meditation-relax-tirage-de-cartes-2-4-3-2-2-2-2-3-2-3-2-2-3-2-5-2-2-2-3-3-3-4-3-2-5-3-2-2-3-2-2-2-3-2-2-4-2-5-2-2-2-5-3-4-2-2-5-5-2-2-4-2-2-4-2-2-2-3-3-2-2-2-2-2-2-2-6-4-2-2-11-3-3-2-3-3-4-2-2-2-3-1-2/
LOCATION:Salle Cocoon 150 avenue de Luçon Talmont Saint Hilaire
ATTACH;FMTTYPE=image/jpeg:https://titiayoga.com/wp-content/uploads/2021/05/tarifs-titia-yoga.jpg
END:VEVENT
BEGIN:VEVENT
DTSTART;TZID=Europe/Paris:20250909T180000
DTEND;TZID=Europe/Paris:20250909T190000
DTSTAMP:20260422T115636
CREATED:20221222T220940Z
LAST-MODIFIED:20250731T122143Z
UID:21747-1757440800-1757444400@titiayoga.com
SUMMARY:MEDITATION CHEMIN DE VIE - ORACLES
DESCRIPTION:[vc_row][vc_column][vc_btn title= »RESERVER » i_icon_fontawesome= »fas fa-calendar-check » add_icon= »true » link= »url:https%3A%2F%2Ftitiayoga.com%2Fcontactez-moi-pour-infos-et-rdv%2F|title:Contactez-moi%20pour%20infos%20ou%20rdv »][vc_column_text][/vc_column_text][/vc_column][/vc_row][vc_row][vc_column][vc_column_text]22 euros la séance\, matériel compris\, au sein d’un petit groupe de 7 personnes. \nToute séance est DUE si l’annulation n’est pas effectuée 48 heures à l’avance. Séance ni modifiable\, ni remboursable\, SANS EXCEPTION. \nSi la séance est annulée avant 48 heures\, elle est reportable UNE SEULE FOIS pendant 6 mois.[/vc_column_text][/vc_column][/vc_row]
URL:https://titiayoga.com/event/meditation-relax-tirage-de-cartes-2-4-3-2-2-2-2-3-2-3-2-2-3-2-5-2-2-2-3-3-3-4-3-2-5-3-2-2-3-2-2-2-3-2-2-3-2-2-4-2-3-2-3-2/
LOCATION:Plage Talmont Saint Hilaire\, La Guittière
ATTACH;FMTTYPE=image/jpeg:https://titiayoga.com/wp-content/uploads/2021/05/tarifs-titia-yoga.jpg
END:VEVENT
BEGIN:VEVENT
DTSTART;TZID=Europe/Paris:20250911T110000
DTEND;TZID=Europe/Paris:20250911T123000
DTSTAMP:20260422T115636
CREATED:20221222T220940Z
LAST-MODIFIED:20250806T141837Z
UID:21750-1757588400-1757593800@titiayoga.com
SUMMARY:CERCLE D'ENTREPRENEUSES
DESCRIPTION:[vc_row][vc_column][vc_btn title= »RESERVER » i_icon_fontawesome= »fas fa-calendar-check » add_icon= »true » link= »url:https%3A%2F%2Ftitiayoga.com%2Fcontactez-moi-pour-infos-et-rdv%2F|title:Contactez-moi%20pour%20infos%20ou%20rdv »][vc_column_text][/vc_column_text][/vc_column][/vc_row][vc_row][vc_column][vc_column_text]30 euros la séance d’1h30 avec une boisson\, au sein d’un petit groupe de 7 personnes. \nSéance annulable 48 heures avant\, reportable 1 seule fois sous 6 mois. \nSéance DUE si l’annulation n’est pas effectuée avant 48 heures\, SANS EXCEPTION\, ni modifiable\, ni reportable.[/vc_column_text][/vc_column][/vc_row]
URL:https://titiayoga.com/event/meditation-relax-tirage-de-cartes-2-4-3-2-2-2-2-3-2-3-2-2-3-2-5-2-2-2-3-3-3-4-3-2-5-3-2-2-3-2-2-2-3-2-2-3-2-2-4-4/
LOCATION:Salle Cocoon 150 avenue de Luçon Talmont Saint Hilaire
ATTACH;FMTTYPE=image/jpeg:https://titiayoga.com/wp-content/uploads/2021/05/tarifs-titia-yoga.jpg
END:VEVENT
BEGIN:VEVENT
DTSTART;TZID=Europe/Paris:20250912T110000
DTEND;TZID=Europe/Paris:20250912T120000
DTSTAMP:20260422T115636
CREATED:20221222T220940Z
LAST-MODIFIED:20250805T152921Z
UID:22040-1757674800-1757678400@titiayoga.com
SUMMARY:VOYAGE SONORE
DESCRIPTION:[vc_row][vc_column][vc_btn title= »RESERVER » i_icon_fontawesome= »fas fa-calendar-check » add_icon= »true » link= »url:https%3A%2F%2Ftitiayoga.com%2Fcontactez-moi-pour-infos-et-rdv%2F|title:Contactez-moi%20pour%20infos%20ou%20rdv »][vc_column_text][/vc_column_text][/vc_column][/vc_row][vc_row][vc_column][vc_column_text]25 euros la séance\, matériel compris\, au sein d’un petit groupe de 7 personnes. \nToute séance est DUE si l’annulation n’est pas effectuée 48 heures à l’avance. Séance ni modifiable\, ni remboursable\, SANS EXCEPTION. \nSi la séance est annulée avant 48 heures\, elle est reportable UNE SEULE FOIS pendant 6 mois.[/vc_column_text][/vc_column][/vc_row]
URL:https://titiayoga.com/event/meditation-relax-tirage-de-cartes-2-4-3-2-2-2-2-3-2-3-2-2-3-2-5-2-2-2-3-3-3-4-3-2-5-3-2-2-3-2-2-2-3-2-2-3-2-2-4-2-3-2-3-2-2-3/
LOCATION:Plage Talmont Saint Hilaire\, La Guittière
ATTACH;FMTTYPE=image/jpeg:https://titiayoga.com/wp-content/uploads/2021/05/tarifs-titia-yoga.jpg
END:VEVENT
BEGIN:VEVENT
DTSTART;TZID=Europe/Paris:20250915T180000
DTEND;TZID=Europe/Paris:20250915T190000
DTSTAMP:20260422T115636
CREATED:20221222T220940Z
LAST-MODIFIED:20250908T143957Z
UID:21741-1757959200-1757962800@titiayoga.com
SUMMARY:MEDITATION MAMANS et FUTURES Mamans "Apaiser ses peurs" - RELAX - ORACLES
DESCRIPTION:[vc_row][vc_column][vc_btn title= »RESERVER » i_icon_fontawesome= »fas fa-calendar-check » add_icon= »true » link= »url:https%3A%2F%2Ftitiayoga.com%2Fcontactez-moi-pour-infos-et-rdv%2F|title:Contactez-moi%20pour%20infos%20ou%20rdv »][vc_column_text][/vc_column_text][/vc_column][/vc_row][vc_row][vc_column][vc_column_text]22 euros la séance\, matériel compris\, au sein d’un petit groupe de 7 personnes. \nToute séance est DUE si l’annulation n’est pas effectuée 48 heures à l’avance. Séance ni modifiable\, ni remboursable\, SANS EXCEPTION. \nSi la séance est annulée avant 48 heures\, elle est reportable UNE SEULE FOIS pendant 6 mois.[/vc_column_text][/vc_column][/vc_row]
URL:https://titiayoga.com/event/meditation-relax-tirage-de-cartes-2-4-3-2-2-2-2-3-2-3-2-2-3-2-5-2-2-2-3-3-3-4-3-2-5-3-2-2-3-2-2-2-3-2-2-3-2-2-4-2-3-2-3/
LOCATION:Plage Talmont Saint Hilaire\, La Guittière
ATTACH;FMTTYPE=image/jpeg:https://titiayoga.com/wp-content/uploads/2021/05/tarifs-titia-yoga.jpg
END:VEVENT
BEGIN:VEVENT
DTSTART;TZID=Europe/Paris:20250917T143000
DTEND;TZID=Europe/Paris:20250917T153000
DTSTAMP:20260422T115636
CREATED:20221222T234815Z
LAST-MODIFIED:20250729T122106Z
UID:21716-1758119400-1758123000@titiayoga.com
SUMMARY:YOGA ENFANTS (7-11ans)
DESCRIPTION:[vc_row][vc_column][vc_btn title= »RESERVER » i_icon_fontawesome= »fas fa-calendar-check » add_icon= »true » link= »url:https%3A%2F%2Ftitiayoga.com%2Fcontactez-moi-pour-infos-et-rdv%2F »][/vc_column][/vc_row][vc_row][vc_column][vc_column_text]22 euros la séance. \nEn cas d’annulation\, merci de me prévenir 48 heures à l’avance. La séance sera reportable une seule fois\, dans un délai de 6 mois.\nSi l’annulation n’est pas effectuée 48 heures avant\, la séance sera dûe\, ni remboursable\, ni échangeable\, sans exception.\n[/vc_column_text][/vc_column][/vc_row]
URL:https://titiayoga.com/event/yoga-7-12-ans-4-5-2-2-2-2-2-2-2-2-2-3-2-2-5-2-2-3-2-2-2-2-3-2-2-2-2-3-2-2-2-2-2-2-2-2-2-2/
LOCATION:Salle Cocoon 150 avenue de Luçon Talmont Saint Hilaire
ATTACH;FMTTYPE=image/jpeg:https://titiayoga.com/wp-content/uploads/2021/03/0151_Cours_yoga_itinerant-151-scaled.jpg
END:VEVENT
BEGIN:VEVENT
DTSTART;TZID=Europe/Paris:20250917T163000
DTEND;TZID=Europe/Paris:20250917T173000
DTSTAMP:20260422T115636
CREATED:20221222T235224Z
LAST-MODIFIED:20250819T083726Z
UID:21714-1758126600-1758130200@titiayoga.com
SUMMARY:YOGA FAMILLE (3-12ans)
DESCRIPTION:[vc_row][vc_column][vc_btn title= »RESERVER » i_icon_fontawesome= »fas fa-calendar-check » add_icon= »true » link= »url:https%3A%2F%2Ftitiayoga.com%2Fcontactez-moi-pour-infos-et-rdv%2F »][vc_column_text][/vc_column_text][vc_column_text]Dès 3 ans à 12 ans. \n20 euros par personne. \nAnnulation 48 h à l’avance sinon la séance est dûe : non modifiable\, non remboursable\, sans exception. \nSéance annulée 48 heures avant : la séance est reportable 1 seule fois à votre convenance\, pendant 6 mois.[/vc_column_text][/vc_column][/vc_row]
URL:https://titiayoga.com/event/yoga-parents-enfants-proches-4-3-3-2-2-2-3-2-2-3-2-2-4-2-2-2-2-2-2-2-5-2-3-2-2-4-2-3-2-2-2-4-2-3-8-2-2-3-2-2-3-2-2-2-2-2-2-3-2-3-3-2-2-2-2-2/
LOCATION:Salle Cocoon 150 avenue de Luçon Talmont Saint Hilaire
ATTACH;FMTTYPE=image/jpeg:https://titiayoga.com/wp-content/uploads/2021/03/titia-yoga-enfant-3.jpg
END:VEVENT
BEGIN:VEVENT
DTSTART;TZID=Europe/Paris:20250918T144500
DTEND;TZID=Europe/Paris:20250918T160000
DTSTAMP:20260422T115636
CREATED:20221222T231209Z
LAST-MODIFIED:20250825T100321Z
UID:22467-1758206700-1758211200@titiayoga.com
SUMMARY:YOGA MEDITATIF - Oracles
DESCRIPTION:[vc_row][vc_column][vc_btn title= »RESERVER » i_icon_fontawesome= »fas fa-calendar-check » add_icon= »true » link= »url:https%3A%2F%2Ftitiayoga.com%2Fcontactez-moi-pour-infos-et-rdv%2F »][vc_column_text]25 euros la séance d’1h15\, matériel compris\, au sein d’un petit groupe de 6 à 7 personnes \nToute séance est DUE si l’annulation n’est pas effectuée 48 heures à l’avance. Séance ni modifiable\, ni remboursable\, SANS EXCEPTION. \nSi la séance est annulée avant 48 heures\, elle est reportable UNE SEULE FOIS pendant 6 mois.[/vc_column_text][/vc_column][/vc_row]
URL:https://titiayoga.com/event/yoga-sagesse-seniors-3-2-2-2-2-2-2-2-2-2-3-2-2-3-2-3-2-3-4-2-2-2-2-2-2-2-2-2-14-2-2-2-2-2-3-2-2-2-2-2-2-2-2-3-2-2-2-2-2-2-2-2-2-2-3-3-2-2-2-2-2/
LOCATION:Salle Cocoon 150 avenue de Luçon Talmont Saint Hilaire
ATTACH;FMTTYPE=image/jpeg:https://titiayoga.com/wp-content/uploads/2021/03/titia-yoga-fertilite-1.jpg
END:VEVENT
BEGIN:VEVENT
DTSTART;TZID=Europe/Paris:20250922T150000
DTEND;TZID=Europe/Paris:20250922T160000
DTSTAMP:20260422T115636
CREATED:20221222T220940Z
LAST-MODIFIED:20250811T115839Z
UID:22043-1758553200-1758556800@titiayoga.com
SUMMARY:VOYAGE SONORE
DESCRIPTION:[vc_row][vc_column][vc_btn title= »RESERVER » i_icon_fontawesome= »fas fa-calendar-check » add_icon= »true » link= »url:https%3A%2F%2Ftitiayoga.com%2Fcontactez-moi-pour-infos-et-rdv%2F|title:Contactez-moi%20pour%20infos%20ou%20rdv »][vc_column_text][/vc_column_text][/vc_column][/vc_row][vc_row][vc_column][vc_column_text]25 euros la séance\, matériel compris\, au sein d’un petit groupe de 7 personnes. \nToute séance est DUE si l’annulation n’est pas effectuée 48 heures à l’avance. Séance ni modifiable\, ni remboursable\, SANS EXCEPTION. \nSi la séance est annulée avant 48 heures\, elle est reportable UNE SEULE FOIS pendant 6 mois.[/vc_column_text][/vc_column][/vc_row]
URL:https://titiayoga.com/event/meditation-relax-tirage-de-cartes-2-4-3-2-2-2-2-3-2-3-2-2-3-2-5-2-2-2-3-3-3-4-3-2-5-3-2-2-3-2-2-2-3-2-2-3-2-2-4-2-3-2-3-2-2-3-2/
LOCATION:Plage Talmont Saint Hilaire\, La Guittière
ATTACH;FMTTYPE=image/jpeg:https://titiayoga.com/wp-content/uploads/2021/05/tarifs-titia-yoga.jpg
END:VEVENT
BEGIN:VEVENT
DTSTART;TZID=Europe/Paris:20250923T180000
DTEND;TZID=Europe/Paris:20250923T190000
DTSTAMP:20260422T115636
CREATED:20221222T220940Z
LAST-MODIFIED:20250908T143209Z
UID:22032-1758650400-1758654000@titiayoga.com
SUMMARY:SOINS ENERGETIQUE VIBRATOIRES "Libérer les peurs"
DESCRIPTION:[vc_row][vc_column][vc_btn title= »RESERVER » i_icon_fontawesome= »fas fa-calendar-check » add_icon= »true » link= »url:https%3A%2F%2Ftitiayoga.com%2Fcontactez-moi-pour-infos-et-rdv%2F|title:Contactez-moi%20pour%20infos%20ou%20rdv »][vc_column_text][/vc_column_text][/vc_column][/vc_row][vc_row][vc_column][vc_column_text]25 euros la séance\, matériel compris\, au sein d’un petit groupe de 7 personnes. \nToute séance est DUE si l’annulation n’est pas effectuée 48 heures à l’avance. Séance ni modifiable\, ni remboursable\, SANS EXCEPTION. \nSi la séance est annulée avant 48 heures\, elle est reportable UNE SEULE FOIS pendant 6 mois.[/vc_column_text][/vc_column][/vc_row]
URL:https://titiayoga.com/event/meditation-relax-tirage-de-cartes-2-4-3-2-2-2-2-3-2-3-2-2-3-2-5-2-2-2-3-3-3-4-3-2-5-3-2-2-3-2-2-2-3-2-2-3-2-2-4-2-3-2-3-2-2/
LOCATION:Plage Talmont Saint Hilaire\, La Guittière
ATTACH;FMTTYPE=image/jpeg:https://titiayoga.com/wp-content/uploads/2021/05/tarifs-titia-yoga.jpg
END:VEVENT
BEGIN:VEVENT
DTSTART;TZID=Europe/Paris:20250926T110000
DTEND;TZID=Europe/Paris:20250926T121500
DTSTAMP:20260422T115636
CREATED:20221222T231209Z
LAST-MODIFIED:20250812T123321Z
UID:22207-1758884400-1758888900@titiayoga.com
SUMMARY:YOGA MEDITATIF - Oracles
DESCRIPTION:[vc_row][vc_column][vc_btn title= »RESERVER » i_icon_fontawesome= »fas fa-calendar-check » add_icon= »true » link= »url:https%3A%2F%2Ftitiayoga.com%2Fcontactez-moi-pour-infos-et-rdv%2F »][vc_column_text]25 euros la séance d’1h15\, matériel compris\, au sein d’un petit groupe de 6 à 7 personnes \nToute séance est DUE si l’annulation n’est pas effectuée 48 heures à l’avance. Séance ni modifiable\, ni remboursable\, SANS EXCEPTION. \nSi la séance est annulée avant 48 heures\, elle est reportable UNE SEULE FOIS pendant 6 mois.[/vc_column_text][/vc_column][/vc_row]
URL:https://titiayoga.com/event/yoga-sagesse-seniors-3-2-2-2-2-2-2-2-2-2-3-2-2-3-2-3-2-3-4-2-2-2-2-2-2-2-2-2-14-2-2-2-2-2-3-2-2-2-2-2-2-2-2-3-2-2-2-2-2-2-2-2-2-2-3-3-2-2-2-2/
LOCATION:Salle Cocoon 150 avenue de Luçon Talmont Saint Hilaire
ATTACH;FMTTYPE=image/jpeg:https://titiayoga.com/wp-content/uploads/2021/03/titia-yoga-fertilite-1.jpg
END:VEVENT
BEGIN:VEVENT
DTSTART;TZID=Europe/Paris:20250929T180000
DTEND;TZID=Europe/Paris:20250929T190000
DTSTAMP:20260422T115636
CREATED:20221222T220940Z
LAST-MODIFIED:20250729T145224Z
UID:21763-1759168800-1759172400@titiayoga.com
SUMMARY:CERCLE DE PARENTS
DESCRIPTION:[vc_row][vc_column][vc_btn title= »RESERVER » i_icon_fontawesome= »fas fa-calendar-check » add_icon= »true » link= »url:https%3A%2F%2Ftitiayoga.com%2Fcontactez-moi-pour-infos-et-rdv%2F|title:Contactez-moi%20pour%20infos%20ou%20rdv »][vc_column_text][/vc_column_text][/vc_column][/vc_row][vc_row][vc_column][vc_column_text]25 euros la séance d’1h\, matériel compris\, au sein d’un petit groupe de 7 personnes. \nToute séance est DUE si l’annulation n’est pas effectuée 48 heures à l’avance. Séance ni modifiable\, ni remboursable\, SANS EXCEPTION. \nSi la séance est annulée avant 48 heures\, elle est reportable UNE SEULE FOIS pendant 6 mois. \n  \n[/vc_column_text][/vc_column][/vc_row]
URL:https://titiayoga.com/event/meditation-relax-tirage-de-cartes-2-4-3-2-2-2-2-3-2-3-2-2-3-2-5-2-2-2-3-3-3-4-3-2-5-3-2-2-3-2-2-2-3-2-2-3-2-2-4-4-2/
LOCATION:Salle Cocoon 150 avenue de Luçon Talmont Saint Hilaire
ATTACH;FMTTYPE=image/jpeg:https://titiayoga.com/wp-content/uploads/2021/05/tarifs-titia-yoga.jpg
END:VEVENT
BEGIN:VEVENT
DTSTART;TZID=Europe/Paris:20250930T170000
DTEND;TZID=Europe/Paris:20250930T180000
DTSTAMP:20260422T115636
CREATED:20221222T235224Z
LAST-MODIFIED:20250916T101659Z
UID:22210-1759251600-1759255200@titiayoga.com
SUMMARY:MEDITATION FAMILLE (10-15 ans)-Oracles "Sérénité"
DESCRIPTION:[vc_row][vc_column][vc_btn title= »RESERVER » i_icon_fontawesome= »fas fa-calendar-check » add_icon= »true » link= »url:https%3A%2F%2Ftitiayoga.com%2Fcontactez-moi-pour-infos-et-rdv%2F »][vc_column_text][/vc_column_text][vc_column_text]Dès 3 ans à 12 ans. \n20 euros par personne. \nAnnulation 48 h à l’avance sinon la séance est dûe : non modifiable\, non remboursable\, sans exception. \nSéance annulée 48 heures avant : la séance est reportable 1 seule fois à votre convenance\, pendant 6 mois.[/vc_column_text][/vc_column][/vc_row]
URL:https://titiayoga.com/event/yoga-parents-enfants-proches-4-3-3-2-2-2-3-2-2-3-2-2-4-2-2-2-2-2-2-2-5-2-3-2-2-4-2-3-2-2-2-4-2-3-8-2-2-3-2-2-3-2-2-2-2-2-2-3-2-3-3-2-2-2-2-2-2/
LOCATION:Salle Cocoon 150 avenue de Luçon Talmont Saint Hilaire
ATTACH;FMTTYPE=image/jpeg:https://titiayoga.com/wp-content/uploads/2021/03/titia-yoga-enfant-3.jpg
END:VEVENT
END:VCALENDAR