BEGIN:VCALENDAR
VERSION:2.0
PRODID:-//TITIAYOGA - ECPv5.6.0//NONSGML v1.0//EN
CALSCALE:GREGORIAN
METHOD:PUBLISH
X-WR-CALNAME:TITIAYOGA
X-ORIGINAL-URL:https://titiayoga.com
X-WR-CALDESC:Events for TITIAYOGA
BEGIN:VTIMEZONE
TZID:Europe/Paris
BEGIN:DAYLIGHT
TZOFFSETFROM:+0100
TZOFFSETTO:+0200
TZNAME:CEST
DTSTART:20250330T010000
END:DAYLIGHT
BEGIN:STANDARD
TZOFFSETFROM:+0200
TZOFFSETTO:+0100
TZNAME:CET
DTSTART:20251026T010000
END:STANDARD
END:VTIMEZONE
BEGIN:VEVENT
DTSTART;TZID=Europe/Paris:20250704T144500
DTEND;TZID=Europe/Paris:20250704T160000
DTSTAMP:20260422T145737
CREATED:20221222T231209Z
LAST-MODIFIED:20250612T124653Z
UID:20723-1751640300-1751644800@titiayoga.com
SUMMARY:YOGA DOUX
DESCRIPTION:[vc_row][vc_column][vc_btn title= »RESERVER » i_icon_fontawesome= »fas fa-calendar-check » add_icon= »true » link= »url:https%3A%2F%2Ftitiayoga.com%2Fcontactez-moi-pour-infos-et-rdv%2F »][vc_column_text]20 euros la séance\, matériel compris\, au sein d’un petit groupe de 6 à 7 personnes\nCarnet de 5 séances : 95 euros valable 6 mois \nAnnulation 48 h à l’avance sinon la séance est dûe : non modifiable\, non remboursable\, sans exception. \nSéance annulée 48 heures avant : la séance est reportable 1 seule fois à votre convenance\, pendant 6 mois.[/vc_column_text][/vc_column][/vc_row]
URL:https://titiayoga.com/event/yoga-sagesse-seniors-3-2-2-2-2-2-2-2-2-2-3-2-2-3-2-3-2-3-4-2-2-2-2-2-2-2-2-2-14-2-2-2-2-2-3-2-2-2-2-2-2-2-2-3-2-2-2-2-2-2-2-2-2-2-2/
LOCATION:Salle Cocoon 150 avenue de Luçon Talmont Saint Hilaire
ATTACH;FMTTYPE=image/jpeg:https://titiayoga.com/wp-content/uploads/2021/03/titia-yoga-fertilite-1.jpg
END:VEVENT
BEGIN:VEVENT
DTSTART;TZID=Europe/Paris:20250707T180000
DTEND;TZID=Europe/Paris:20250707T190000
DTSTAMP:20260422T145737
CREATED:20221222T220940Z
LAST-MODIFIED:20250623T073408Z
UID:20866-1751911200-1751914800@titiayoga.com
SUMMARY:SOIN APAISEMENT
DESCRIPTION:[vc_row][vc_column][vc_btn title= »RESERVER » i_icon_fontawesome= »fas fa-calendar-check » add_icon= »true » link= »url:https%3A%2F%2Ftitiayoga.com%2Fcontactez-moi-pour-infos-et-rdv%2F|title:Contactez-moi%20pour%20infos%20ou%20rdv »][vc_column_text][/vc_column_text][/vc_column][/vc_row][vc_row][vc_column][vc_column_text]20 euros la séance\, matériel compris\, au sein d’un petit groupe de 7 personnes.\nCarnet de 5 séances à 95 euros/personne (valable 6 mois). \nAnnulation 48 h à l’avance sinon la séance est dûe : non modifiable\, non remboursable\, sans exception. \nSéance annulée 48 heures avant : la séance est reportable 1 seule fois à votre convenance\, pendant 6 mois.[/vc_column_text][/vc_column][/vc_row]
URL:https://titiayoga.com/event/meditation-relax-tirage-de-cartes-2-4-3-2-2-2-2-3-2-3-2-2-3-2-5-2-2-2-3-3-3-4-3-2-5-3-2-2-3-2-2-2-2-2-2-2-2-2-2-2-2-2-3-2-5/
LOCATION:Plage Talmont Saint Hilaire\, La Guittière
ATTACH;FMTTYPE=image/jpeg:https://titiayoga.com/wp-content/uploads/2021/05/tarifs-titia-yoga.jpg
END:VEVENT
BEGIN:VEVENT
DTSTART;TZID=Europe/Paris:20250708T163000
DTEND;TZID=Europe/Paris:20250708T173000
DTSTAMP:20260422T145737
CREATED:20221222T235224Z
LAST-MODIFIED:20250701T155203Z
UID:21107-1751992200-1751995800@titiayoga.com
SUMMARY:SOIN PARENTS-ENFANTS "Coeur à coeur"
DESCRIPTION:[vc_row][vc_column][vc_btn title= »RESERVER » i_icon_fontawesome= »fas fa-calendar-check » add_icon= »true » link= »url:https%3A%2F%2Ftitiayoga.com%2Fcontactez-moi-pour-infos-et-rdv%2F »][vc_column_text][/vc_column_text][vc_column_text]Dès 3 ans à 12 ans. \n19 euros par personne.\nCarnet de 5 séances à 90 euros/personne (valable 6 mois) soit 180 euros pour un duo. Carte utilisable pour toute la famille : maman\, papa\, fratrie\, grands-parents. \nAnnulation 48 h à l’avance sinon la séance est dûe : non modifiable\, non remboursable\, sans exception. \nSéance annulée 48 heures avant : la séance est reportable 1 seule fois à votre convenance\, pendant 6 mois.[/vc_column_text][/vc_column][/vc_row]
URL:https://titiayoga.com/event/yoga-parents-enfants-proches-4-3-3-2-2-2-3-2-2-3-2-2-4-2-2-2-2-2-2-2-5-2-3-2-2-4-2-3-2-2-2-4-2-3-8-2-2-3-2-2-3-2-2-2-2-2-2-3-2-3-3-2-2-2-3-3-2/
LOCATION:Salle Cocoon 150 avenue de Luçon Talmont Saint Hilaire
ATTACH;FMTTYPE=image/jpeg:https://titiayoga.com/wp-content/uploads/2021/03/titia-yoga-enfant-3.jpg
END:VEVENT
BEGIN:VEVENT
DTSTART;TZID=Europe/Paris:20250710T110000
DTEND;TZID=Europe/Paris:20250710T120000
DTSTAMP:20260422T145737
CREATED:20221222T220940Z
LAST-MODIFIED:20250701T105730Z
UID:20862-1752145200-1752148800@titiayoga.com
SUMMARY:RELAXATION + rituel PLeine Lune - ORACLES
DESCRIPTION:[vc_row][vc_column][vc_btn title= »RESERVER » i_icon_fontawesome= »fas fa-calendar-check » add_icon= »true » link= »url:https%3A%2F%2Ftitiayoga.com%2Fcontactez-moi-pour-infos-et-rdv%2F|title:Contactez-moi%20pour%20infos%20ou%20rdv »][vc_column_text][/vc_column_text][/vc_column][/vc_row][vc_row][vc_column][vc_column_text]20 euros la séance\, matériel compris\, au sein d’un petit groupe de 7 personnes.\nCarnet de 5 séances à 95 euros/personne (valable 6 mois). \nAnnulation 48 h à l’avance sinon la séance est dûe : non modifiable\, non remboursable\, sans exception. \nSéance annulée 48 heures avant : la séance est reportable 1 seule fois à votre convenance\, pendant 6 mois.[/vc_column_text][/vc_column][/vc_row]
URL:https://titiayoga.com/event/meditation-relax-tirage-de-cartes-2-4-3-2-2-2-2-3-2-3-2-2-3-2-5-2-2-2-3-3-3-4-3-2-5-3-2-2-3-2-2-2-2-2-2-2-2-2-2-2-3-3/
LOCATION:Plage Talmont Saint Hilaire\, La Guittière
ATTACH;FMTTYPE=image/jpeg:https://titiayoga.com/wp-content/uploads/2021/05/tarifs-titia-yoga.jpg
END:VEVENT
BEGIN:VEVENT
DTSTART;TZID=Europe/Paris:20250715T180000
DTEND;TZID=Europe/Paris:20250715T190000
DTSTAMP:20260422T145737
CREATED:20221222T220940Z
LAST-MODIFIED:20250612T123951Z
UID:20715-1752602400-1752606000@titiayoga.com
SUMMARY:MEDITATION MAMANS - RELAX - ORACLES
DESCRIPTION:[vc_row][vc_column][vc_btn title= »RESERVER » i_icon_fontawesome= »fas fa-calendar-check » add_icon= »true » link= »url:https%3A%2F%2Ftitiayoga.com%2Fcontactez-moi-pour-infos-et-rdv%2F|title:Contactez-moi%20pour%20infos%20ou%20rdv »][vc_column_text][/vc_column_text][/vc_column][/vc_row][vc_row][vc_column][vc_column_text]20 euros la séance\, matériel compris\, au sein d’un petit groupe de 7 personnes.\nCarnet de 5 séances à 95 euros/personne (valable 6 mois). \nSéance annulable 48 heures avant\, reportable 1 seule fois sous 6 mois. \nSéance dûe si l’annulation n’est pas effectuée avant 48 heures.[/vc_column_text][/vc_column][/vc_row]
URL:https://titiayoga.com/event/meditation-relax-tirage-de-cartes-2-4-3-2-2-2-2-3-2-3-2-2-3-2-5-2-2-2-3-3-3-4-3-2-5-3-2-2-3-2-2-2-3-2-2-3-2-2-4-2-3-2/
LOCATION:Plage Talmont Saint Hilaire\, La Guittière
ATTACH;FMTTYPE=image/jpeg:https://titiayoga.com/wp-content/uploads/2021/05/tarifs-titia-yoga.jpg
END:VEVENT
BEGIN:VEVENT
DTSTART;TZID=Europe/Paris:20250716T110000
DTEND;TZID=Europe/Paris:20250716T120000
DTSTAMP:20260422T145737
CREATED:20221222T235224Z
LAST-MODIFIED:20250604T144232Z
UID:20477-1752663600-1752667200@titiayoga.com
SUMMARY:YOGA FAMILLE
DESCRIPTION:[vc_row][vc_column][vc_btn title= »RESERVER » i_icon_fontawesome= »fas fa-calendar-check » add_icon= »true » link= »url:https%3A%2F%2Ftitiayoga.com%2Fcontactez-moi-pour-infos-et-rdv%2F »][vc_column_text][/vc_column_text][vc_column_text]Dès 3 ans à 12 ans. \n19 euros par personne.\nCarnet de 5 séances à 90 euros/personne (valable 6 mois) soit 180 euros pour un duo. Carte utilisable pour toute la famille : maman\, papa\, fratrie\, grands-parents. \nAnnulation 48 h à l’avance sinon la séance est dûe : non modifiable\, non remboursable\, sans exception. \nSéance annulée 48 heures avant : la séance est reportable 1 seule fois à votre convenance\, pendant 6 mois.[/vc_column_text][/vc_column][/vc_row]
URL:https://titiayoga.com/event/yoga-parents-enfants-proches-4-3-3-2-2-2-3-2-2-3-2-2-4-2-2-2-2-2-2-2-5-2-3-2-2-4-2-3-2-2-2-4-2-3-8-2-2-3-2-2-3-2-2-2-2-2-2-3-2-3-3-2-2-2/
LOCATION:Salle Cocoon 150 avenue de Luçon Talmont Saint Hilaire
ATTACH;FMTTYPE=image/jpeg:https://titiayoga.com/wp-content/uploads/2021/03/titia-yoga-enfant-3.jpg
END:VEVENT
BEGIN:VEVENT
DTSTART;TZID=Europe/Paris:20250716T143000
DTEND;TZID=Europe/Paris:20250716T153000
DTSTAMP:20260422T145737
CREATED:20221222T234815Z
LAST-MODIFIED:20250612T123729Z
UID:20713-1752676200-1752679800@titiayoga.com
SUMMARY:SOIN ENFANTS 7/11 ans "Confiance en soi"
DESCRIPTION:[vc_row][vc_column][vc_btn title= »RESERVER » i_icon_fontawesome= »fas fa-calendar-check » add_icon= »true » link= »url:https%3A%2F%2Ftitiayoga.com%2Fcontactez-moi-pour-infos-et-rdv%2F »][/vc_column][/vc_row][vc_row][vc_column][vc_column_text]20 euros la séance. \nCarnet de 5 séances à 95 euros (valable 6 mois). \nEn cas d’annulation\, merci de me prévenir 48 heures à l’avance. La séance sera reportable une seule fois\, dans un délai de 6 mois.\nSi l’annulation n’est pas effectuée 48 heures avant\, la séance sera dûe\, ni remboursable\, ni échangeable\, sans exception.\n[/vc_column_text][/vc_column][/vc_row]
URL:https://titiayoga.com/event/yoga-7-12-ans-4-5-2-2-2-2-2-2-2-2-2-3-2-2-5-2-2-3-2-2-2-2-3-2-2-2-2-3-2-2-2-2-2-2-2-2-2/
LOCATION:Salle Cocoon 150 avenue de Luçon Talmont Saint Hilaire
ATTACH;FMTTYPE=image/jpeg:https://titiayoga.com/wp-content/uploads/2021/03/0151_Cours_yoga_itinerant-151-scaled.jpg
END:VEVENT
BEGIN:VEVENT
DTSTART;TZID=Europe/Paris:20250717T150000
DTEND;TZID=Europe/Paris:20250717T160000
DTSTAMP:20260422T145737
CREATED:20221222T220940Z
LAST-MODIFIED:20250706T171357Z
UID:21245-1752764400-1752768000@titiayoga.com
SUMMARY:MEDITATION CHEMIN DE VIE
DESCRIPTION:[vc_row][vc_column][vc_btn title= »RESERVER » i_icon_fontawesome= »fas fa-calendar-check » add_icon= »true » link= »url:https%3A%2F%2Ftitiayoga.com%2Fcontactez-moi-pour-infos-et-rdv%2F|title:Contactez-moi%20pour%20infos%20ou%20rdv »][vc_column_text][/vc_column_text][/vc_column][/vc_row][vc_row][vc_column][vc_column_text]20 euros la séance\, matériel compris\, au sein d’un petit groupe de 7 personnes.\nCarnet de 5 séances à 95 euros/personne (valable 6 mois). \nAnnulation 48 h à l’avance sinon la séance est dûe : non modifiable\, non remboursable\, sans exception. \nSéance annulée 48 heures avant : la séance est reportable 1 seule fois à votre convenance\, pendant 6 mois.[/vc_column_text][/vc_column][/vc_row]
URL:https://titiayoga.com/event/meditation-relax-tirage-de-cartes-2-4-3-2-2-2-2-3-2-3-2-2-3-2-5-2-2-2-3-3-3-4-3-2-5-3-2-2-3-2-2-2-2-2-2-2-2-2-2-2-2-2-3-2-2-2/
LOCATION:Plage Talmont Saint Hilaire\, La Guittière
ATTACH;FMTTYPE=image/jpeg:https://titiayoga.com/wp-content/uploads/2021/05/tarifs-titia-yoga.jpg
END:VEVENT
BEGIN:VEVENT
DTSTART;TZID=Europe/Paris:20250718T144500
DTEND;TZID=Europe/Paris:20250718T160000
DTSTAMP:20260422T145737
CREATED:20221222T231209Z
LAST-MODIFIED:20250612T124358Z
UID:20719-1752849900-1752854400@titiayoga.com
SUMMARY:YOGA DOUX
DESCRIPTION:[vc_row][vc_column][vc_btn title= »RESERVER » i_icon_fontawesome= »fas fa-calendar-check » add_icon= »true » link= »url:https%3A%2F%2Ftitiayoga.com%2Fcontactez-moi-pour-infos-et-rdv%2F »][vc_column_text]20 euros la séance\, matériel compris\, au sein d’un petit groupe de 6 à 7 personnes\nCarnet de 5 séances : 95 euros valable 6 mois \nAnnulation 48 h à l’avance sinon la séance est dûe : non modifiable\, non remboursable\, sans exception. \nSéance annulée 48 heures avant : la séance est reportable 1 seule fois à votre convenance\, pendant 6 mois.[/vc_column_text][/vc_column][/vc_row]
URL:https://titiayoga.com/event/yoga-sagesse-seniors-3-2-2-2-2-2-2-2-2-2-3-2-2-3-2-3-2-3-4-2-2-2-2-2-2-2-2-2-14-2-2-2-2-2-3-2-2-2-2-2-2-2-2-3-2-2-2-2-2-2-2-2-2/
LOCATION:Salle Cocoon 150 avenue de Luçon Talmont Saint Hilaire
ATTACH;FMTTYPE=image/jpeg:https://titiayoga.com/wp-content/uploads/2021/03/titia-yoga-fertilite-1.jpg
END:VEVENT
BEGIN:VEVENT
DTSTART;TZID=Europe/Paris:20250721T180000
DTEND;TZID=Europe/Paris:20250721T190000
DTSTAMP:20260422T145737
CREATED:20221222T220940Z
LAST-MODIFIED:20250624T082519Z
UID:20868-1753120800-1753124400@titiayoga.com
SUMMARY:SERENITE OCEAN
DESCRIPTION:[vc_row][vc_column][vc_btn title= »RESERVER » i_icon_fontawesome= »fas fa-calendar-check » add_icon= »true » link= »url:https%3A%2F%2Ftitiayoga.com%2Fcontactez-moi-pour-infos-et-rdv%2F|title:Contactez-moi%20pour%20infos%20ou%20rdv »][vc_column_text][/vc_column_text][/vc_column][/vc_row][vc_row][vc_column][vc_column_text]20 euros la séance\, matériel compris\, au sein d’un petit groupe de 7 personnes.\nCarnet de 5 séances à 95 euros/personne (valable 6 mois). \nAnnulation 48 h à l’avance sinon la séance est dûe : non modifiable\, non remboursable\, sans exception. \nSéance annulée 48 heures avant : la séance est reportable 1 seule fois à votre convenance\, pendant 6 mois.[/vc_column_text][/vc_column][/vc_row]
URL:https://titiayoga.com/event/meditation-relax-tirage-de-cartes-2-4-3-2-2-2-2-3-2-3-2-2-3-2-5-2-2-2-3-3-3-4-3-2-5-3-2-2-3-2-2-2-2-2-2-2-2-2-2-2-2-2-3-2-4-2/
LOCATION:Plage Talmont Saint Hilaire\, La Guittière
ATTACH;FMTTYPE=image/jpeg:https://titiayoga.com/wp-content/uploads/2021/05/tarifs-titia-yoga.jpg
END:VEVENT
BEGIN:VEVENT
DTSTART;TZID=Europe/Paris:20250724T150000
DTEND;TZID=Europe/Paris:20250724T160000
DTSTAMP:20260422T145737
CREATED:20221222T220940Z
LAST-MODIFIED:20250706T171210Z
UID:20975-1753369200-1753372800@titiayoga.com
SUMMARY:MEDITATION+rituel Nouvelle Lune-RELAX-ORACLES
DESCRIPTION:[vc_row][vc_column][vc_btn title= »RESERVER » i_icon_fontawesome= »fas fa-calendar-check » add_icon= »true » link= »url:https%3A%2F%2Ftitiayoga.com%2Fcontactez-moi-pour-infos-et-rdv%2F|title:Contactez-moi%20pour%20infos%20ou%20rdv »][vc_column_text][/vc_column_text][/vc_column][/vc_row][vc_row][vc_column][vc_column_text]20 euros la séance\, matériel compris\, au sein d’un petit groupe de 7 personnes.\nCarnet de 5 séances à 95 euros/personne (valable 6 mois). \nAnnulation 48 h à l’avance sinon la séance est dûe : non modifiable\, non remboursable\, sans exception. \nSéance annulée 48 heures avant : la séance est reportable 1 seule fois à votre convenance\, pendant 6 mois.[/vc_column_text][/vc_column][/vc_row]
URL:https://titiayoga.com/event/meditation-relax-tirage-de-cartes-2-4-3-2-2-2-2-3-2-3-2-2-3-2-5-2-2-2-3-3-3-4-3-2-5-3-2-2-3-2-2-2-2-2-2-2-2-2-2-2-2-2-3-2-4-4/
LOCATION:Plage Talmont Saint Hilaire\, La Guittière
ATTACH;FMTTYPE=image/jpeg:https://titiayoga.com/wp-content/uploads/2021/05/tarifs-titia-yoga.jpg
END:VEVENT
BEGIN:VEVENT
DTSTART;TZID=Europe/Paris:20250728T180000
DTEND;TZID=Europe/Paris:20250728T190000
DTSTAMP:20260422T145737
CREATED:20221222T220940Z
LAST-MODIFIED:20250624T082558Z
UID:20870-1753725600-1753729200@titiayoga.com
SUMMARY:ELEVE TES VIBRATIONS
DESCRIPTION:[vc_row][vc_column][vc_btn title= »RESERVER » i_icon_fontawesome= »fas fa-calendar-check » add_icon= »true » link= »url:https%3A%2F%2Ftitiayoga.com%2Fcontactez-moi-pour-infos-et-rdv%2F|title:Contactez-moi%20pour%20infos%20ou%20rdv »][vc_column_text][/vc_column_text][/vc_column][/vc_row][vc_row][vc_column][vc_column_text]20 euros la séance\, matériel compris\, au sein d’un petit groupe de 7 personnes.\nCarnet de 5 séances à 95 euros/personne (valable 6 mois). \nAnnulation 48 h à l’avance sinon la séance est dûe : non modifiable\, non remboursable\, sans exception. \nSéance annulée 48 heures avant : la séance est reportable 1 seule fois à votre convenance\, pendant 6 mois.[/vc_column_text][/vc_column][/vc_row]
URL:https://titiayoga.com/event/meditation-relax-tirage-de-cartes-2-4-3-2-2-2-2-3-2-3-2-2-3-2-5-2-2-2-3-3-3-4-3-2-5-3-2-2-3-2-2-2-2-2-2-2-2-2-2-2-2-2-3-2-4-3/
LOCATION:Plage Talmont Saint Hilaire\, La Guittière
ATTACH;FMTTYPE=image/jpeg:https://titiayoga.com/wp-content/uploads/2021/05/tarifs-titia-yoga.jpg
END:VEVENT
BEGIN:VEVENT
DTSTART;TZID=Europe/Paris:20250729T110000
DTEND;TZID=Europe/Paris:20250729T120000
DTSTAMP:20260422T145737
CREATED:20221222T235224Z
LAST-MODIFIED:20250626T170320Z
UID:20860-1753786800-1753790400@titiayoga.com
SUMMARY:SOIN PARENTS-ENFANTS "Coeur à coeur"
DESCRIPTION:[vc_row][vc_column][vc_btn title= »RESERVER » i_icon_fontawesome= »fas fa-calendar-check » add_icon= »true » link= »url:https%3A%2F%2Ftitiayoga.com%2Fcontactez-moi-pour-infos-et-rdv%2F »][vc_column_text][/vc_column_text][vc_column_text]Dès 3 ans à 12 ans. \n19 euros par personne.\nCarnet de 5 séances à 90 euros/personne (valable 6 mois) soit 180 euros pour un duo. Carte utilisable pour toute la famille : maman\, papa\, fratrie\, grands-parents. \nAnnulation 48 h à l’avance sinon la séance est dûe : non modifiable\, non remboursable\, sans exception. \nSéance annulée 48 heures avant : la séance est reportable 1 seule fois à votre convenance\, pendant 6 mois.[/vc_column_text][/vc_column][/vc_row]
URL:https://titiayoga.com/event/yoga-parents-enfants-proches-4-3-3-2-2-2-3-2-2-3-2-2-4-2-2-2-2-2-2-2-5-2-3-2-2-4-2-3-2-2-2-4-2-3-8-2-2-3-2-2-3-2-2-2-2-2-2-3-2-3-3-2-2-2-3-3/
LOCATION:Salle Cocoon 150 avenue de Luçon Talmont Saint Hilaire
ATTACH;FMTTYPE=image/jpeg:https://titiayoga.com/wp-content/uploads/2021/03/titia-yoga-enfant-3.jpg
END:VEVENT
BEGIN:VEVENT
DTSTART;TZID=Europe/Paris:20250731T150000
DTEND;TZID=Europe/Paris:20250731T160000
DTSTAMP:20260422T145737
CREATED:20221222T220940Z
LAST-MODIFIED:20250618T123515Z
UID:20864-1753974000-1753977600@titiayoga.com
SUMMARY:MEDITATION-RELAX-ORACLES
DESCRIPTION:[vc_row][vc_column][vc_btn title= »RESERVER » i_icon_fontawesome= »fas fa-calendar-check » add_icon= »true » link= »url:https%3A%2F%2Ftitiayoga.com%2Fcontactez-moi-pour-infos-et-rdv%2F|title:Contactez-moi%20pour%20infos%20ou%20rdv »][vc_column_text][/vc_column_text][/vc_column][/vc_row][vc_row][vc_column][vc_column_text]20 euros la séance\, matériel compris\, au sein d’un petit groupe de 7 personnes.\nCarnet de 5 séances à 95 euros/personne (valable 6 mois). \nAnnulation 48 h à l’avance sinon la séance est dûe : non modifiable\, non remboursable\, sans exception. \nSéance annulée 48 heures avant : la séance est reportable 1 seule fois à votre convenance\, pendant 6 mois.[/vc_column_text][/vc_column][/vc_row]
URL:https://titiayoga.com/event/meditation-relax-tirage-de-cartes-2-4-3-2-2-2-2-3-2-3-2-2-3-2-5-2-2-2-3-3-3-4-3-2-5-3-2-2-3-2-2-2-2-2-2-2-2-2-2-2-2-2-3-2-4/
LOCATION:Plage Talmont Saint Hilaire\, La Guittière
ATTACH;FMTTYPE=image/jpeg:https://titiayoga.com/wp-content/uploads/2021/05/tarifs-titia-yoga.jpg
END:VEVENT
END:VCALENDAR