BEGIN:VCALENDAR
VERSION:2.0
PRODID:-//TITIAYOGA - ECPv5.6.0//NONSGML v1.0//EN
CALSCALE:GREGORIAN
METHOD:PUBLISH
X-WR-CALNAME:TITIAYOGA
X-ORIGINAL-URL:https://titiayoga.com
X-WR-CALDESC:Events for TITIAYOGA
BEGIN:VTIMEZONE
TZID:Europe/Paris
BEGIN:DAYLIGHT
TZOFFSETFROM:+0100
TZOFFSETTO:+0200
TZNAME:CEST
DTSTART:20250330T010000
END:DAYLIGHT
BEGIN:STANDARD
TZOFFSETFROM:+0200
TZOFFSETTO:+0100
TZNAME:CET
DTSTART:20251026T010000
END:STANDARD
END:VTIMEZONE
BEGIN:VEVENT
DTSTART;TZID=Europe/Paris:20250505T180000
DTEND;TZID=Europe/Paris:20250505T190000
DTSTAMP:20260424T120700
CREATED:20221222T220940Z
LAST-MODIFIED:20250422T112643Z
UID:19614-1746468000-1746471600@titiayoga.com
SUMMARY:MEDITATION/RELAX/ ORACLES
DESCRIPTION:[vc_row][vc_column][vc_btn title= »RESERVER » i_icon_fontawesome= »fas fa-calendar-check » add_icon= »true » link= »url:https%3A%2F%2Ftitiayoga.com%2Fcontactez-moi-pour-infos-et-rdv%2F|title:Contactez-moi%20pour%20infos%20ou%20rdv »][vc_column_text][/vc_column_text][/vc_column][/vc_row][vc_row][vc_column][vc_column_text]20 euros la séance\, matériel compris\, au sein d’un petit groupe de 7 personnes.\nCarnet de 5 séances à 95 euros/personne (valable 6 mois). \nAnnulation 48 h à l’avance sinon la séance est dûe : non modifiable\, non remboursable\, sans exception. \nSéance annulée 48 heures avant : la séance est reportable 1 seule fois à votre convenance\, pendant 6 mois.[/vc_column_text][/vc_column][/vc_row]
URL:https://titiayoga.com/event/meditation-relax-tirage-de-cartes-2-4-3-2-2-2-2-3-2-3-2-2-3-2-5-2-2-2-3-3-3-4-3-2-5-3-2-2-3-2-2-2-4-3-2-2-4-2-2-2-3-3-3-2-2-2-3/
LOCATION:Salle Cocoon 150 avenue de Luçon Talmont Saint Hilaire
ATTACH;FMTTYPE=image/jpeg:https://titiayoga.com/wp-content/uploads/2021/05/tarifs-titia-yoga.jpg
END:VEVENT
BEGIN:VEVENT
DTSTART;TZID=Europe/Paris:20250506T150000
DTEND;TZID=Europe/Paris:20250506T160000
DTSTAMP:20260424T120700
CREATED:20221222T220940Z
LAST-MODIFIED:20250328T091103Z
UID:18966-1746543600-1746547200@titiayoga.com
SUMMARY:RDV INDIVIDUEL ou Duo
DESCRIPTION:[vc_row][vc_column][vc_btn title= »RESERVER » i_icon_fontawesome= »fas fa-calendar-check » add_icon= »true » link= »url:https%3A%2F%2Ftitiayoga.com%2Fcontactez-moi-pour-infos-et-rdv%2F|title:Contactez-moi%20pour%20infos%20ou%20rdv »][vc_column_text][/vc_column_text][/vc_column][/vc_row][vc_row][vc_column][vc_column_text] \n\nRDVS  :\n\n\n 𝑺𝑬𝑹𝑬𝑵𝑰𝑻𝑬 :\n𝖴𝗇𝖾 𝖽𝗈𝗎𝖼𝖾 𝖼𝗈𝗆𝗉𝗈𝗌𝗂𝗍𝗂𝗈𝗇 𝖽é𝖿𝗂𝗇𝗂𝖾 𝖾𝗇𝗍𝗋𝖾 𝗏𝗈𝗌 𝖻𝖾𝗌𝗈𝗂𝗇𝗌 𝖾𝗍 𝗆𝖾𝗌 𝗋𝖾𝗌𝗌𝖾𝗇𝗍𝗂𝗌 :\n𝖬é𝖽𝗂𝗍𝖺𝗍𝗂𝗈𝗇\, 𝗋𝖾𝗌𝗉𝗂𝗋𝖺𝗍𝗂𝗈𝗇\, 𝗋𝖾𝗅𝖺𝗑𝖺𝗍𝗂𝗈𝗇\, 𝖼𝗁𝖾𝗆𝗂𝗇 𝖽𝖾 𝗏𝗂𝖾\, 𝗈𝗋𝖺𝖼𝗅𝖾𝗌\, échanges.\nPour tous : 68 euros\n𝖠𝖽𝗈 : 5 euros\nMission de Vie : 65 euros\nPrénatal : 1h 65 euros\, 1h30 75 euros\nPost-partum : 65 euros\n\n 𝑮𝑼𝑰𝑫𝑨𝑵𝑪𝑬 :\n E𝗍𝗋𝖾 𝗀𝗎𝗂𝖽é 𝗉𝖺𝗋 𝗅𝖾𝗌 𝖼𝖺𝗋𝗍𝖾𝗌 𝖾𝗍 𝗆𝖾𝗌 𝗂𝗇𝗍𝗎𝗂𝗍𝗂𝗈𝗇𝗌. 65 euros\n\n 𝑭𝑨𝑴𝑰𝑳𝑳𝑬  :\n-𝖬𝖺𝗌𝗌𝖺𝗀𝖾 𝖡é𝖻é\, 68 euros en duo\n-𝖸𝗈𝗀𝖺 𝖡é𝖻é\, 68 euros en duo\n-𝖡é𝖡é𝖱𝖾𝗅𝖺𝗑 (𝖬𝖺𝗌𝗌𝖺𝗀𝖾 𝖡𝖾́𝖻𝖾 + 𝖸𝗈𝗀𝖺 𝖡é𝖻𝖾é + 𝖢𝗈𝗇𝖼𝖾𝗉𝗍𝗂𝗈𝗇 𝗁𝗎𝗂𝗅𝖾 𝗏é𝗀é𝗍𝖺𝗅𝖾 𝟣𝟢𝟢% 𝗇𝖺𝗍𝗎𝗋𝖾𝗅𝗅𝖾) 73 euros\n-𝖸𝗈𝗀𝖺 𝖯𝖺𝗋𝖾𝗇𝗍-𝖤𝗇𝖿𝖺𝗇𝗍/Ado\, 73 euros en duo\n\n\n[/vc_column_text][/vc_column][/vc_row]
URL:https://titiayoga.com/event/meditation-relax-tirage-de-cartes-2-4-3-2-2-2-2-3-2-3-2-2-3-2-5-2-2-2-3-3-3-4-3-2-5-3-2-2-3-2-2-2-3-2-2-4-2-5-2-2-2-5-3-4-2-2-5-5-2-2-4-2-2-4-2-2-2-3-3-2-2/
LOCATION:Salle Cocoon 150 avenue de Luçon Talmont Saint Hilaire
ATTACH;FMTTYPE=image/jpeg:https://titiayoga.com/wp-content/uploads/2021/05/tarifs-titia-yoga.jpg
END:VEVENT
BEGIN:VEVENT
DTSTART;TZID=Europe/Paris:20250506T170000
DTEND;TZID=Europe/Paris:20250506T180000
DTSTAMP:20260424T120700
CREATED:20221222T220940Z
LAST-MODIFIED:20250328T091146Z
UID:18968-1746550800-1746554400@titiayoga.com
SUMMARY:RDV INDIVIDUEL ou Duo
DESCRIPTION:[vc_row][vc_column][vc_btn title= »RESERVER » i_icon_fontawesome= »fas fa-calendar-check » add_icon= »true » link= »url:https%3A%2F%2Ftitiayoga.com%2Fcontactez-moi-pour-infos-et-rdv%2F|title:Contactez-moi%20pour%20infos%20ou%20rdv »][vc_column_text][/vc_column_text][/vc_column][/vc_row][vc_row][vc_column][vc_column_text] \n\nRDVS  :\n\n\n 𝑺𝑬𝑹𝑬𝑵𝑰𝑻𝑬 :\n𝖴𝗇𝖾 𝖽𝗈𝗎𝖼𝖾 𝖼𝗈𝗆𝗉𝗈𝗌𝗂𝗍𝗂𝗈𝗇 𝖽é𝖿𝗂𝗇𝗂𝖾 𝖾𝗇𝗍𝗋𝖾 𝗏𝗈𝗌 𝖻𝖾𝗌𝗈𝗂𝗇𝗌 𝖾𝗍 𝗆𝖾𝗌 𝗋𝖾𝗌𝗌𝖾𝗇𝗍𝗂𝗌 :\n𝖬é𝖽𝗂𝗍𝖺𝗍𝗂𝗈𝗇\, 𝗋𝖾𝗌𝗉𝗂𝗋𝖺𝗍𝗂𝗈𝗇\, 𝗋𝖾𝗅𝖺𝗑𝖺𝗍𝗂𝗈𝗇\, 𝖼𝗁𝖾𝗆𝗂𝗇 𝖽𝖾 𝗏𝗂𝖾\, 𝗈𝗋𝖺𝖼𝗅𝖾𝗌\, échanges.\nPour tous : 68 euros\n𝖠𝖽𝗈 : 5 euros\nMission de Vie : 65 euros\nPrénatal : 1h 65 euros\, 1h30 75 euros\nPost-partum : 65 euros\n\n 𝑮𝑼𝑰𝑫𝑨𝑵𝑪𝑬 :\n E𝗍𝗋𝖾 𝗀𝗎𝗂𝖽é 𝗉𝖺𝗋 𝗅𝖾𝗌 𝖼𝖺𝗋𝗍𝖾𝗌 𝖾𝗍 𝗆𝖾𝗌 𝗂𝗇𝗍𝗎𝗂𝗍𝗂𝗈𝗇𝗌. 65 euros\n\n 𝑭𝑨𝑴𝑰𝑳𝑳𝑬  :\n-𝖬𝖺𝗌𝗌𝖺𝗀𝖾 𝖡é𝖻é\, 68 euros en duo\n-𝖸𝗈𝗀𝖺 𝖡é𝖻é\, 68 euros en duo\n-𝖡é𝖡é𝖱𝖾𝗅𝖺𝗑 (𝖬𝖺𝗌𝗌𝖺𝗀𝖾 𝖡𝖾́𝖻𝖾 + 𝖸𝗈𝗀𝖺 𝖡é𝖻𝖾é + 𝖢𝗈𝗇𝖼𝖾𝗉𝗍𝗂𝗈𝗇 𝗁𝗎𝗂𝗅𝖾 𝗏é𝗀é𝗍𝖺𝗅𝖾 𝟣𝟢𝟢% 𝗇𝖺𝗍𝗎𝗋𝖾𝗅𝗅𝖾) 73 euros\n-𝖸𝗈𝗀𝖺 𝖯𝖺𝗋𝖾𝗇𝗍-𝖤𝗇𝖿𝖺𝗇𝗍/Ado\, 73 euros en duo\n\n\n[/vc_column_text][/vc_column][/vc_row]
URL:https://titiayoga.com/event/meditation-relax-tirage-de-cartes-2-4-3-2-2-2-2-3-2-3-2-2-3-2-5-2-2-2-3-3-3-4-3-2-5-3-2-2-3-2-2-2-3-2-2-4-2-5-2-2-2-5-3-4-2-2-5-5-2-2-4-2-2-4-2-2-2-3-3-2-2-2/
LOCATION:Salle Cocoon 150 avenue de Luçon Talmont Saint Hilaire
ATTACH;FMTTYPE=image/jpeg:https://titiayoga.com/wp-content/uploads/2021/05/tarifs-titia-yoga.jpg
END:VEVENT
BEGIN:VEVENT
DTSTART;TZID=Europe/Paris:20250512T180000
DTEND;TZID=Europe/Paris:20250512T190000
DTSTAMP:20260424T120700
CREATED:20221222T220940Z
LAST-MODIFIED:20250428T092649Z
UID:19616-1747072800-1747076400@titiayoga.com
SUMMARY:MEDITATION MISSION DE VIE - ORACLES
DESCRIPTION:[vc_row][vc_column][vc_btn title= »RESERVER » i_icon_fontawesome= »fas fa-calendar-check » add_icon= »true » link= »url:https%3A%2F%2Ftitiayoga.com%2Fcontactez-moi-pour-infos-et-rdv%2F|title:Contactez-moi%20pour%20infos%20ou%20rdv »][vc_column_text][/vc_column_text][/vc_column][/vc_row][vc_row][vc_column][vc_column_text]20 euros la séance\, matériel compris\, au sein d’un petit groupe de 7 personnes.\nCarnet de 5 séances à 95 euros/personne (valable 6 mois). \nSéance annulable 48 heures avant\, reportable 1 seule fois sous 6 mois. \nSéance dûe si l’annulation n’est pas effectuée avant 48 heures.[/vc_column_text][/vc_column][/vc_row]
URL:https://titiayoga.com/event/meditation-relax-tirage-de-cartes-2-4-3-2-2-2-2-3-2-3-2-2-3-2-5-2-2-2-3-3-3-4-3-2-5-3-2-2-3-2-2-2-3-2-2-3-2-2-4-2-2/
LOCATION:Plage Talmont Saint Hilaire\, La Guittière
ATTACH;FMTTYPE=image/jpeg:https://titiayoga.com/wp-content/uploads/2021/05/tarifs-titia-yoga.jpg
END:VEVENT
BEGIN:VEVENT
DTSTART;TZID=Europe/Paris:20250513T170000
DTEND;TZID=Europe/Paris:20250513T180000
DTSTAMP:20260424T120700
CREATED:20221222T235224Z
LAST-MODIFIED:20250415T164724Z
UID:19447-1747155600-1747159200@titiayoga.com
SUMMARY:YOGA FAMILLE
DESCRIPTION:[vc_row][vc_column][vc_btn title= »RESERVER » i_icon_fontawesome= »fas fa-calendar-check » add_icon= »true » link= »url:https%3A%2F%2Ftitiayoga.com%2Fcontactez-moi-pour-infos-et-rdv%2F »][vc_column_text][/vc_column_text][vc_column_text]Dès 3 ans à 12 ans. \n19 euros par personne.\nCarnet de 5 séances à 90 euros/personne (valable 6 mois) soit 180 euros pour un duo. Carte utilisable pour toute la famille : maman\, papa\, fratrie\, grands-parents. \nAnnulation 48 h à l’avance sinon la séance est dûe : non modifiable\, non remboursable\, sans exception. \nSéance annulée 48 heures avant : la séance est reportable 1 seule fois à votre convenance\, pendant 6 mois.[/vc_column_text][/vc_column][/vc_row]
URL:https://titiayoga.com/event/yoga-parents-enfants-proches-4-3-3-2-2-2-3-2-2-3-2-2-4-2-2-2-2-2-2-2-5-2-3-2-2-4-2-3-2-2-2-4-2-3-8-2-2-3-2-2-3-2-2-2-2-2-2-3-2-3-2/
LOCATION:Salle Cocoon 150 avenue de Luçon Talmont Saint Hilaire
ATTACH;FMTTYPE=image/jpeg:https://titiayoga.com/wp-content/uploads/2021/03/titia-yoga-enfant-3.jpg
END:VEVENT
BEGIN:VEVENT
DTSTART;TZID=Europe/Paris:20250515T150000
DTEND;TZID=Europe/Paris:20250515T160000
DTSTAMP:20260424T120700
CREATED:20221222T220940Z
LAST-MODIFIED:20250415T134726Z
UID:19441-1747321200-1747324800@titiayoga.com
SUMMARY:MEDITATION CHEMIN DE VIE
DESCRIPTION:[vc_row][vc_column][vc_btn title= »RESERVER » i_icon_fontawesome= »fas fa-calendar-check » add_icon= »true » link= »url:https%3A%2F%2Ftitiayoga.com%2Fcontactez-moi-pour-infos-et-rdv%2F|title:Contactez-moi%20pour%20infos%20ou%20rdv »][vc_column_text][/vc_column_text][/vc_column][/vc_row][vc_row][vc_column][vc_column_text]20 euros la séance\, matériel compris\, au sein d’un petit groupe de 7 personnes.\nCarnet de 5 séances à 95 euros/personne (valable 6 mois). \nAnnulation 48 h à l’avance sinon la séance est dûe : non modifiable\, non remboursable\, sans exception. \nSéance annulée 48 heures avant : la séance est reportable 1 seule fois à votre convenance\, pendant 6 mois.[/vc_column_text][/vc_column][/vc_row]
URL:https://titiayoga.com/event/meditation-relax-tirage-de-cartes-2-4-3-2-2-2-2-3-2-3-2-2-3-2-5-2-2-2-3-3-3-4-3-2-5-3-2-2-3-2-2-2-2-2-2-2-2-2-2-2/
LOCATION:Plage Talmont Saint Hilaire\, La Guittière
ATTACH;FMTTYPE=image/jpeg:https://titiayoga.com/wp-content/uploads/2021/05/tarifs-titia-yoga.jpg
END:VEVENT
BEGIN:VEVENT
DTSTART;TZID=Europe/Paris:20250516T144500
DTEND;TZID=Europe/Paris:20250516T160000
DTSTAMP:20260424T120700
CREATED:20221222T231209Z
LAST-MODIFIED:20250428T092855Z
UID:18746-1747406700-1747411200@titiayoga.com
SUMMARY:YOGA DOUX " Se relier aux besoins du corps"
DESCRIPTION:[vc_row][vc_column][vc_btn title= »RESERVER » i_icon_fontawesome= »fas fa-calendar-check » add_icon= »true » link= »url:https%3A%2F%2Ftitiayoga.com%2Fcontactez-moi-pour-infos-et-rdv%2F »][vc_column_text]20 euros la séance\, matériel compris\, au sein d’un petit groupe de 6 à 7 personnes\nCarnet de 5 séances : 95 euros valable 6 mois \nAnnulation 48 h à l’avance sinon la séance est dûe : non modifiable\, non remboursable\, sans exception. \nSéance annulée 48 heures avant : la séance est reportable 1 seule fois à votre convenance\, pendant 6 mois.[/vc_column_text][/vc_column][/vc_row]
URL:https://titiayoga.com/event/yoga-sagesse-seniors-3-2-2-2-2-2-2-2-2-2-3-2-2-3-2-3-2-3-4-2-2-2-2-2-2-2-2-2-14-2-2-2-2-2-3-2-2-2-2-2-2-2-2-3-2-2-2-2/
LOCATION:Salle Cocoon 150 avenue de Luçon Talmont Saint Hilaire
ATTACH;FMTTYPE=image/jpeg:https://titiayoga.com/wp-content/uploads/2021/03/titia-yoga-fertilite-1.jpg
END:VEVENT
BEGIN:VEVENT
DTSTART;TZID=Europe/Paris:20250519T180000
DTEND;TZID=Europe/Paris:20250519T190000
DTSTAMP:20260424T120700
CREATED:20221222T220940Z
LAST-MODIFIED:20250430T154157Z
UID:19619-1747677600-1747681200@titiayoga.com
SUMMARY:CERCLE D'ORACLES
DESCRIPTION:[vc_row][vc_column][vc_btn title= »RESERVER » i_icon_fontawesome= »fas fa-calendar-check » add_icon= »true » link= »url:https%3A%2F%2Ftitiayoga.com%2Fcontactez-moi-pour-infos-et-rdv%2F|title:Contactez-moi%20pour%20infos%20ou%20rdv »][vc_column_text][/vc_column_text][/vc_column][/vc_row][vc_row][vc_column][vc_column_text]20 euros la séance\, matériel compris\, au sein d’un petit groupe de 7 personnes.\nCarnet de 5 séances à 95 euros/personne (valable 6 mois). \nSéance annulable 48 heures avant\, reportable 1 seule fois sous 6 mois. \nSéance dûe si l’annulation n’est pas effectuée avant 48 heures.[/vc_column_text][/vc_column][/vc_row]
URL:https://titiayoga.com/event/meditation-relax-tirage-de-cartes-2-4-3-2-2-2-2-3-2-3-2-2-3-2-5-2-2-2-3-3-3-4-3-2-5-3-2-2-3-2-2-2-3-2-2-3-2-2-4-3/
LOCATION:Plage Talmont Saint Hilaire\, La Guittière
ATTACH;FMTTYPE=image/jpeg:https://titiayoga.com/wp-content/uploads/2021/05/tarifs-titia-yoga.jpg
END:VEVENT
BEGIN:VEVENT
DTSTART;TZID=Europe/Paris:20250521T143000
DTEND;TZID=Europe/Paris:20250521T153000
DTSTAMP:20260424T120700
CREATED:20221222T234815Z
LAST-MODIFIED:20250512T102752Z
UID:19445-1747837800-1747841400@titiayoga.com
SUMMARY:YOGA ENFANTS 7/11 ans "J'ai besoin de "
DESCRIPTION:[vc_row][vc_column][vc_btn title= »RESERVER » i_icon_fontawesome= »fas fa-calendar-check » add_icon= »true » link= »url:https%3A%2F%2Ftitiayoga.com%2Fcontactez-moi-pour-infos-et-rdv%2F »][/vc_column][/vc_row][vc_row][vc_column][vc_column_text]20 euros la séance. \nCarnet de 5 séances à 95 euros (valable 6 mois). \nEn cas d’annulation\, merci de me prévenir 48 heures à l’avance. La séance sera reportable une seule fois\, dans un délai de 6 mois.\nSi l’annulation n’est pas effectuée 48 heures avant\, la séance sera dûe\, ni remboursable\, ni échangeable\, sans exception.\n[/vc_column_text][/vc_column][/vc_row]
URL:https://titiayoga.com/event/yoga-7-12-ans-4-5-2-2-2-2-2-2-2-2-2-3-2-2-5-2-2-3-2-2-2-2-3-2-2-2-2-3-2-2-2-2-2-2-2/
LOCATION:Salle Cocoon 150 avenue de Luçon Talmont Saint Hilaire
ATTACH;FMTTYPE=image/jpeg:https://titiayoga.com/wp-content/uploads/2021/03/0151_Cours_yoga_itinerant-151-scaled.jpg
END:VEVENT
BEGIN:VEVENT
DTSTART;TZID=Europe/Paris:20250521T161500
DTEND;TZID=Europe/Paris:20250521T171500
DTSTAMP:20260424T120700
CREATED:20221222T235224Z
LAST-MODIFIED:20250512T102712Z
UID:19998-1747844100-1747847700@titiayoga.com
SUMMARY:YOGA FAMILLE "J'ai besoin de "
DESCRIPTION:[vc_row][vc_column][vc_btn title= »RESERVER » i_icon_fontawesome= »fas fa-calendar-check » add_icon= »true » link= »url:https%3A%2F%2Ftitiayoga.com%2Fcontactez-moi-pour-infos-et-rdv%2F »][vc_column_text][/vc_column_text][vc_column_text]Dès 3 ans à 12 ans. \n19 euros par personne.\nCarnet de 5 séances à 90 euros/personne (valable 6 mois) soit 180 euros pour un duo. Carte utilisable pour toute la famille : maman\, papa\, fratrie\, grands-parents. \nAnnulation 48 h à l’avance sinon la séance est dûe : non modifiable\, non remboursable\, sans exception. \nSéance annulée 48 heures avant : la séance est reportable 1 seule fois à votre convenance\, pendant 6 mois.[/vc_column_text][/vc_column][/vc_row]
URL:https://titiayoga.com/event/yoga-parents-enfants-proches-4-3-3-2-2-2-3-2-2-3-2-2-4-2-2-2-2-2-2-2-5-2-3-2-2-4-2-3-2-2-2-4-2-3-8-2-2-3-2-2-3-2-2-2-2-2-2-3-2-3-3/
LOCATION:Salle Cocoon 150 avenue de Luçon Talmont Saint Hilaire
ATTACH;FMTTYPE=image/jpeg:https://titiayoga.com/wp-content/uploads/2021/03/titia-yoga-enfant-3.jpg
END:VEVENT
BEGIN:VEVENT
DTSTART;TZID=Europe/Paris:20250522T150000
DTEND;TZID=Europe/Paris:20250522T160000
DTSTAMP:20260424T120700
CREATED:20221222T220940Z
LAST-MODIFIED:20250415T135542Z
UID:19451-1747926000-1747929600@titiayoga.com
SUMMARY:MEDITATION-RELAX-ORACLES
DESCRIPTION:[vc_row][vc_column][vc_btn title= »RESERVER » i_icon_fontawesome= »fas fa-calendar-check » add_icon= »true » link= »url:https%3A%2F%2Ftitiayoga.com%2Fcontactez-moi-pour-infos-et-rdv%2F|title:Contactez-moi%20pour%20infos%20ou%20rdv »][vc_column_text][/vc_column_text][/vc_column][/vc_row][vc_row][vc_column][vc_column_text]20 euros la séance\, matériel compris\, au sein d’un petit groupe de 7 personnes.\nCarnet de 5 séances à 95 euros/personne (valable 6 mois). \nAnnulation 48 h à l’avance sinon la séance est dûe : non modifiable\, non remboursable\, sans exception. \nSéance annulée 48 heures avant : la séance est reportable 1 seule fois à votre convenance\, pendant 6 mois.[/vc_column_text][/vc_column][/vc_row]
URL:https://titiayoga.com/event/meditation-relax-tirage-de-cartes-2-4-3-2-2-2-2-3-2-3-2-2-3-2-5-2-2-2-3-3-3-4-3-2-5-3-2-2-3-2-2-2-2-2-2-2-2-2-2-2-2/
LOCATION:Plage Talmont Saint Hilaire\, La Guittière
ATTACH;FMTTYPE=image/jpeg:https://titiayoga.com/wp-content/uploads/2021/05/tarifs-titia-yoga.jpg
END:VEVENT
BEGIN:VEVENT
DTSTART;TZID=Europe/Paris:20250523T144500
DTEND;TZID=Europe/Paris:20250523T160000
DTSTAMP:20260424T120700
CREATED:20221222T231209Z
LAST-MODIFIED:20250428T092942Z
UID:18748-1748011500-1748016000@titiayoga.com
SUMMARY:YOGA DOUX "EVEIL"
DESCRIPTION:[vc_row][vc_column][vc_btn title= »RESERVER » i_icon_fontawesome= »fas fa-calendar-check » add_icon= »true » link= »url:https%3A%2F%2Ftitiayoga.com%2Fcontactez-moi-pour-infos-et-rdv%2F »][vc_column_text]20 euros la séance\, matériel compris\, au sein d’un petit groupe de 6 à 7 personnes\nCarnet de 5 séances : 95 euros valable 6 mois \nAnnulation 48 h à l’avance sinon la séance est dûe : non modifiable\, non remboursable\, sans exception. \nSéance annulée 48 heures avant : la séance est reportable 1 seule fois à votre convenance\, pendant 6 mois.[/vc_column_text][/vc_column][/vc_row]
URL:https://titiayoga.com/event/yoga-sagesse-seniors-3-2-2-2-2-2-2-2-2-2-3-2-2-3-2-3-2-3-4-2-2-2-2-2-2-2-2-2-14-2-2-2-2-2-3-2-2-2-2-2-2-2-2-3-2-2-2-2-2/
LOCATION:Salle Cocoon 150 avenue de Luçon Talmont Saint Hilaire
ATTACH;FMTTYPE=image/jpeg:https://titiayoga.com/wp-content/uploads/2021/03/titia-yoga-fertilite-1.jpg
END:VEVENT
BEGIN:VEVENT
DTSTART;TZID=Europe/Paris:20250527T180000
DTEND;TZID=Europe/Paris:20250527T190000
DTSTAMP:20260424T120700
CREATED:20221222T220940Z
LAST-MODIFIED:20250415T135409Z
UID:19449-1748368800-1748372400@titiayoga.com
SUMMARY:MEDITATION MAMANS - RELAX - ORACLES
DESCRIPTION:[vc_row][vc_column][vc_btn title= »RESERVER » i_icon_fontawesome= »fas fa-calendar-check » add_icon= »true » link= »url:https%3A%2F%2Ftitiayoga.com%2Fcontactez-moi-pour-infos-et-rdv%2F|title:Contactez-moi%20pour%20infos%20ou%20rdv »][vc_column_text][/vc_column_text][/vc_column][/vc_row][vc_row][vc_column][vc_column_text]20 euros la séance\, matériel compris\, au sein d’un petit groupe de 7 personnes.\nCarnet de 5 séances à 95 euros/personne (valable 6 mois). \nSéance annulable 48 heures avant\, reportable 1 seule fois sous 6 mois. \nSéance dûe si l’annulation n’est pas effectuée avant 48 heures.[/vc_column_text][/vc_column][/vc_row]
URL:https://titiayoga.com/event/meditation-relax-tirage-de-cartes-2-4-3-2-2-2-2-3-2-3-2-2-3-2-5-2-2-2-3-3-3-4-3-2-5-3-2-2-3-2-2-2-3-2-2-3-2-2-4-2/
LOCATION:Plage Talmont Saint Hilaire\, La Guittière
ATTACH;FMTTYPE=image/jpeg:https://titiayoga.com/wp-content/uploads/2021/05/tarifs-titia-yoga.jpg
END:VEVENT
END:VCALENDAR