BEGIN:VCALENDAR
VERSION:2.0
PRODID:-//TITIAYOGA - ECPv5.6.0//NONSGML v1.0//EN
CALSCALE:GREGORIAN
METHOD:PUBLISH
X-WR-CALNAME:TITIAYOGA
X-ORIGINAL-URL:https://titiayoga.com
X-WR-CALDESC:Events for TITIAYOGA
BEGIN:VTIMEZONE
TZID:Europe/Paris
BEGIN:DAYLIGHT
TZOFFSETFROM:+0100
TZOFFSETTO:+0200
TZNAME:CEST
DTSTART:20250330T010000
END:DAYLIGHT
BEGIN:STANDARD
TZOFFSETFROM:+0200
TZOFFSETTO:+0100
TZNAME:CET
DTSTART:20251026T010000
END:STANDARD
END:VTIMEZONE
BEGIN:VEVENT
DTSTART;TZID=Europe/Paris:20250414T180000
DTEND;TZID=Europe/Paris:20250414T190000
DTSTAMP:20260424T133848
CREATED:20221222T220940Z
LAST-MODIFIED:20250318T095302Z
UID:18740-1744653600-1744657200@titiayoga.com
SUMMARY:SEANCE "HAPINNESS"
DESCRIPTION:[vc_row][vc_column][vc_btn title= »RESERVER » i_icon_fontawesome= »fas fa-calendar-check » add_icon= »true » link= »url:https%3A%2F%2Ftitiayoga.com%2Fcontactez-moi-pour-infos-et-rdv%2F|title:Contactez-moi%20pour%20infos%20ou%20rdv »][vc_column_text][/vc_column_text][/vc_column][/vc_row][vc_row][vc_column][vc_column_text]20 euros la séance\, matériel compris\, au sein d’un petit groupe de 7 personnes.\nCarnet de 5 séances à 95 euros/personne (valable 6 mois). \nAnnulation 48 h à l’avance sinon la séance est dûe : non modifiable\, non remboursable\, sans exception. \nSéance annulée 48 heures avant : la séance est reportable 1 seule fois à votre convenance\, pendant 6 mois.[/vc_column_text][/vc_column][/vc_row]
URL:https://titiayoga.com/event/meditation-relax-tirage-de-cartes-2-4-3-2-2-2-2-3-2-3-2-2-3-2-5-2-2-2-3-3-3-4-3-2-5-3-2-2-3-2-2-2-4-3-2-2-4-2-2-2-3-3-3-2-3/
LOCATION:Salle Cocoon 150 avenue de Luçon Talmont Saint Hilaire
ATTACH;FMTTYPE=image/jpeg:https://titiayoga.com/wp-content/uploads/2021/05/tarifs-titia-yoga.jpg
END:VEVENT
BEGIN:VEVENT
DTSTART;TZID=Europe/Paris:20250416T143000
DTEND;TZID=Europe/Paris:20250416T153000
DTSTAMP:20260424T133848
CREATED:20221222T234815Z
LAST-MODIFIED:20250313T205224Z
UID:18622-1744813800-1744817400@titiayoga.com
SUMMARY:YOGA ENFANTS 7/11 ans "S'aimer"
DESCRIPTION:[vc_row][vc_column][vc_btn title= »RESERVER » i_icon_fontawesome= »fas fa-calendar-check » add_icon= »true » link= »url:https%3A%2F%2Ftitiayoga.com%2Fcontactez-moi-pour-infos-et-rdv%2F »][/vc_column][/vc_row][vc_row][vc_column][vc_column_text]20 euros la séance. \nCarnet de 5 séances à 95 euros (valable 6 mois). \nEn cas d’annulation\, merci de me prévenir 48 heures à l’avance. La séance sera reportable une seule fois\, dans un délai de 6 mois.\nSi l’annulation n’est pas effectuée 48 heures avant\, la séance sera dûe\, ni remboursable\, ni échangeable\, sans exception.\n[/vc_column_text][/vc_column][/vc_row]
URL:https://titiayoga.com/event/yoga-7-12-ans-4-5-2-2-2-2-2-2-2-2-2-3-2-2-5-2-2-3-2-2-2-2-3-2-2-2-2-3-2-2-2-2-2-2/
LOCATION:Salle Cocoon 150 avenue de Luçon Talmont Saint Hilaire
ATTACH;FMTTYPE=image/jpeg:https://titiayoga.com/wp-content/uploads/2021/03/0151_Cours_yoga_itinerant-151-scaled.jpg
END:VEVENT
BEGIN:VEVENT
DTSTART;TZID=Europe/Paris:20250416T161500
DTEND;TZID=Europe/Paris:20250416T171500
DTSTAMP:20260424T133848
CREATED:20221222T235224Z
LAST-MODIFIED:20250313T204919Z
UID:18618-1744820100-1744823700@titiayoga.com
SUMMARY:YOGA FAMILLE "S'aimer"
DESCRIPTION:[vc_row][vc_column][vc_btn title= »RESERVER » i_icon_fontawesome= »fas fa-calendar-check » add_icon= »true » link= »url:https%3A%2F%2Ftitiayoga.com%2Fcontactez-moi-pour-infos-et-rdv%2F »][vc_column_text][/vc_column_text][vc_column_text]Dès 3 ans à 12 ans. \n19 euros par personne.\nCarnet de 5 séances à 90 euros/personne (valable 6 mois) soit 180 euros pour un duo. Carte utilisable pour toute la famille : maman\, papa\, fratrie\, grands-parents. \nAnnulation 48 h à l’avance sinon la séance est dûe : non modifiable\, non remboursable\, sans exception. \nSéance annulée 48 heures avant : la séance est reportable 1 seule fois à votre convenance\, pendant 6 mois.[/vc_column_text][/vc_column][/vc_row]
URL:https://titiayoga.com/event/yoga-parents-enfants-proches-4-3-3-2-2-2-3-2-2-3-2-2-4-2-2-2-2-2-2-2-5-2-3-2-2-4-2-3-2-2-2-4-2-3-8-2-2-3-2-2-3-2-2-2-2-2-2-3-2/
LOCATION:Salle Cocoon 150 avenue de Luçon Talmont Saint Hilaire
ATTACH;FMTTYPE=image/jpeg:https://titiayoga.com/wp-content/uploads/2021/03/titia-yoga-enfant-3.jpg
END:VEVENT
BEGIN:VEVENT
DTSTART;TZID=Europe/Paris:20250417T150000
DTEND;TZID=Europe/Paris:20250417T160000
DTSTAMP:20260424T133848
CREATED:20221222T220940Z
LAST-MODIFIED:20250314T093233Z
UID:18591-1744902000-1744905600@titiayoga.com
SUMMARY:MEDITATION/RELAX/ ORACLES "S'aimer"
DESCRIPTION:[vc_row][vc_column][vc_btn title= »RESERVER » i_icon_fontawesome= »fas fa-calendar-check » add_icon= »true » link= »url:https%3A%2F%2Ftitiayoga.com%2Fcontactez-moi-pour-infos-et-rdv%2F|title:Contactez-moi%20pour%20infos%20ou%20rdv »][vc_column_text][/vc_column_text][/vc_column][/vc_row][vc_row][vc_column][vc_column_text]20 euros la séance\, matériel compris\, au sein d’un petit groupe de 7 personnes.\nCarnet de 5 séances à 95 euros/personne (valable 6 mois). \nAnnulation 48 h à l’avance sinon la séance est dûe : non modifiable\, non remboursable\, sans exception. \nSéance annulée 48 heures avant : la séance est reportable 1 seule fois à votre convenance\, pendant 6 mois.[/vc_column_text][/vc_column][/vc_row]
URL:https://titiayoga.com/event/meditation-relax-tirage-de-cartes-2-4-3-2-2-2-2-3-2-3-2-2-3-2-5-2-2-2-3-3-3-4-3-2-5-3-2-2-3-2-2-2-4-3-2-2-4-2-2-2-3-3-3-2-2-2-2/
LOCATION:Salle Cocoon 150 avenue de Luçon Talmont Saint Hilaire
ATTACH;FMTTYPE=image/jpeg:https://titiayoga.com/wp-content/uploads/2021/05/tarifs-titia-yoga.jpg
END:VEVENT
BEGIN:VEVENT
DTSTART;TZID=Europe/Paris:20250418T110000
DTEND;TZID=Europe/Paris:20250418T120000
DTSTAMP:20260424T133848
CREATED:20221222T220940Z
LAST-MODIFIED:20250315T094618Z
UID:18100-1744974000-1744977600@titiayoga.com
SUMMARY:RDV INDIVIDUEL ou DUO
DESCRIPTION:[vc_row][vc_column][vc_btn title= »RESERVER » i_icon_fontawesome= »fas fa-calendar-check » add_icon= »true » link= »url:https%3A%2F%2Ftitiayoga.com%2Fcontactez-moi-pour-infos-et-rdv%2F|title:Contactez-moi%20pour%20infos%20ou%20rdv »][vc_column_text][/vc_column_text][/vc_column][/vc_row][vc_row][vc_column][vc_column_text] \n\nRDVS  :\n\n\n 𝑺𝑬𝑹𝑬𝑵𝑰𝑻𝑬 :\n𝖴𝗇𝖾 𝖽𝗈𝗎𝖼𝖾 𝖼𝗈𝗆𝗉𝗈𝗌𝗂𝗍𝗂𝗈𝗇 𝖽é𝖿𝗂𝗇𝗂𝖾 𝖾𝗇𝗍𝗋𝖾 𝗏𝗈𝗌 𝖻𝖾𝗌𝗈𝗂𝗇𝗌 𝖾𝗍 𝗆𝖾𝗌 𝗋𝖾𝗌𝗌𝖾𝗇𝗍𝗂𝗌 :\n𝖬é𝖽𝗂𝗍𝖺𝗍𝗂𝗈𝗇\, 𝗋𝖾𝗌𝗉𝗂𝗋𝖺𝗍𝗂𝗈𝗇\, 𝗋𝖾𝗅𝖺𝗑𝖺𝗍𝗂𝗈𝗇\, 𝖼𝗁𝖾𝗆𝗂𝗇 𝖽𝖾 𝗏𝗂𝖾\, 𝗈𝗋𝖺𝖼𝗅𝖾𝗌\, échanges.\nPour tous : 68 euros\n𝖠𝖽𝗈 : 5 euros\nMission de Vie : 65 euros\nPrénatal : 1h 65 euros\, 1h30 75 euros\nPost-partum : 65 euros\n\n 𝑮𝑼𝑰𝑫𝑨𝑵𝑪𝑬 :\n E𝗍𝗋𝖾 𝗀𝗎𝗂𝖽é 𝗉𝖺𝗋 𝗅𝖾𝗌 𝖼𝖺𝗋𝗍𝖾𝗌 𝖾𝗍 𝗆𝖾𝗌 𝗂𝗇𝗍𝗎𝗂𝗍𝗂𝗈𝗇𝗌. 65 euros\n\n 𝑭𝑨𝑴𝑰𝑳𝑳𝑬  :\n-𝖬𝖺𝗌𝗌𝖺𝗀𝖾 𝖡é𝖻é\, 68 euros en duo\n-𝖸𝗈𝗀𝖺 𝖡é𝖻é\, 68 euros en duo\n-𝖡é𝖡é𝖱𝖾𝗅𝖺𝗑 (𝖬𝖺𝗌𝗌𝖺𝗀𝖾 𝖡𝖾́𝖻𝖾 + 𝖸𝗈𝗀𝖺 𝖡é𝖻𝖾é + 𝖢𝗈𝗇𝖼𝖾𝗉𝗍𝗂𝗈𝗇 𝗁𝗎𝗂𝗅𝖾 𝗏é𝗀é𝗍𝖺𝗅𝖾 𝟣𝟢𝟢% 𝗇𝖺𝗍𝗎𝗋𝖾𝗅𝗅𝖾) 73 euros\n-𝖸𝗈𝗀𝖺 𝖯𝖺𝗋𝖾𝗇𝗍-𝖤𝗇𝖿𝖺𝗇𝗍/Ado\, 73 euros en duo\n\n\n[/vc_column_text][/vc_column][/vc_row]
URL:https://titiayoga.com/event/meditation-relax-tirage-de-cartes-2-4-3-2-2-2-2-3-2-3-2-2-3-2-5-2-2-2-3-3-3-4-3-2-5-3-2-2-3-2-2-2-3-2-2-4-2-5-2-2-2-5-3-4-2-2-5-5-2-2-4-2-2-4-2-2-2/
LOCATION:Salle Cocoon 150 avenue de Luçon Talmont Saint Hilaire
ATTACH;FMTTYPE=image/jpeg:https://titiayoga.com/wp-content/uploads/2021/05/tarifs-titia-yoga.jpg
END:VEVENT
BEGIN:VEVENT
DTSTART;TZID=Europe/Paris:20250422T110000
DTEND;TZID=Europe/Paris:20250422T120000
DTSTAMP:20260424T133848
CREATED:20221222T220940Z
LAST-MODIFIED:20250315T094418Z
UID:18585-1745319600-1745323200@titiayoga.com
SUMMARY:RDV INDIVIDUEL ou DUO
DESCRIPTION:[vc_row][vc_column][vc_btn title= »RESERVER » i_icon_fontawesome= »fas fa-calendar-check » add_icon= »true » link= »url:https%3A%2F%2Ftitiayoga.com%2Fcontactez-moi-pour-infos-et-rdv%2F|title:Contactez-moi%20pour%20infos%20ou%20rdv »][vc_column_text][/vc_column_text][/vc_column][/vc_row][vc_row][vc_column][vc_column_text] \n\nRDVS  :\n\n\n 𝑺𝑬𝑹𝑬𝑵𝑰𝑻𝑬 :\n𝖴𝗇𝖾 𝖽𝗈𝗎𝖼𝖾 𝖼𝗈𝗆𝗉𝗈𝗌𝗂𝗍𝗂𝗈𝗇 𝖽é𝖿𝗂𝗇𝗂𝖾 𝖾𝗇𝗍𝗋𝖾 𝗏𝗈𝗌 𝖻𝖾𝗌𝗈𝗂𝗇𝗌 𝖾𝗍 𝗆𝖾𝗌 𝗋𝖾𝗌𝗌𝖾𝗇𝗍𝗂𝗌 :\n𝖬é𝖽𝗂𝗍𝖺𝗍𝗂𝗈𝗇\, 𝗋𝖾𝗌𝗉𝗂𝗋𝖺𝗍𝗂𝗈𝗇\, 𝗋𝖾𝗅𝖺𝗑𝖺𝗍𝗂𝗈𝗇\, 𝖼𝗁𝖾𝗆𝗂𝗇 𝖽𝖾 𝗏𝗂𝖾\, 𝗈𝗋𝖺𝖼𝗅𝖾𝗌\, échanges.\nPour tous : 68 euros\n𝖠𝖽𝗈 : 5 euros\nMission de Vie : 65 euros\nPrénatal : 1h 65 euros\, 1h30 75 euros\nPost-partum : 65 euros\n\n 𝑮𝑼𝑰𝑫𝑨𝑵𝑪𝑬 :\n E𝗍𝗋𝖾 𝗀𝗎𝗂𝖽é 𝗉𝖺𝗋 𝗅𝖾𝗌 𝖼𝖺𝗋𝗍𝖾𝗌 𝖾𝗍 𝗆𝖾𝗌 𝗂𝗇𝗍𝗎𝗂𝗍𝗂𝗈𝗇𝗌. 65 euros\n\n 𝑭𝑨𝑴𝑰𝑳𝑳𝑬  :\n-𝖬𝖺𝗌𝗌𝖺𝗀𝖾 𝖡é𝖻é\, 68 euros en duo\n-𝖸𝗈𝗀𝖺 𝖡é𝖻é\, 68 euros en duo\n-𝖡é𝖡é𝖱𝖾𝗅𝖺𝗑 (𝖬𝖺𝗌𝗌𝖺𝗀𝖾 𝖡𝖾́𝖻𝖾 + 𝖸𝗈𝗀𝖺 𝖡é𝖻𝖾é + 𝖢𝗈𝗇𝖼𝖾𝗉𝗍𝗂𝗈𝗇 𝗁𝗎𝗂𝗅𝖾 𝗏é𝗀é𝗍𝖺𝗅𝖾 𝟣𝟢𝟢% 𝗇𝖺𝗍𝗎𝗋𝖾𝗅𝗅𝖾) 73 euros\n-𝖸𝗈𝗀𝖺 𝖯𝖺𝗋𝖾𝗇𝗍-𝖤𝗇𝖿𝖺𝗇𝗍/Ado\, 73 euros en duo\n\n\n[/vc_column_text][/vc_column][/vc_row]
URL:https://titiayoga.com/event/meditation-relax-tirage-de-cartes-2-4-3-2-2-2-2-3-2-3-2-2-3-2-5-2-2-2-3-3-3-4-3-2-5-3-2-2-3-2-2-2-3-2-2-4-2-5-2-2-2-5-3-4-2-2-5-5-2-2-4-2-2-4-2-2-2-2-2/
LOCATION:Salle Cocoon 150 avenue de Luçon Talmont Saint Hilaire
ATTACH;FMTTYPE=image/jpeg:https://titiayoga.com/wp-content/uploads/2021/05/tarifs-titia-yoga.jpg
END:VEVENT
BEGIN:VEVENT
DTSTART;TZID=Europe/Paris:20250422T180000
DTEND;TZID=Europe/Paris:20250422T190000
DTSTAMP:20260424T133848
CREATED:20221222T220940Z
LAST-MODIFIED:20250422T112835Z
UID:18541-1745344800-1745348400@titiayoga.com
SUMMARY:CERCLE BIEN-ETRE MAMANS "HAPPINESS"
DESCRIPTION:[vc_row][vc_column][vc_btn title= »RESERVER » i_icon_fontawesome= »fas fa-calendar-check » add_icon= »true » link= »url:https%3A%2F%2Ftitiayoga.com%2Fcontactez-moi-pour-infos-et-rdv%2F|title:Contactez-moi%20pour%20infos%20ou%20rdv »][vc_column_text][/vc_column_text][/vc_column][/vc_row][vc_row][vc_column][vc_column_text]20 euros la séance\, matériel compris\, au sein d’un petit groupe de 7 personnes.\nCarnet de 5 séances à 95 euros/personne (valable 6 mois). \nSéance annulable 48 heures avant\, reportable 1 seule fois sous 6 mois. \nSéance dûe si l’annulation n’est pas effectuée avant 48 heures.[/vc_column_text][/vc_column][/vc_row]
URL:https://titiayoga.com/event/meditation-relax-tirage-de-cartes-2-4-3-2-2-2-2-3-2-3-2-2-3-2-5-2-2-2-3-3-3-4-3-2-5-3-2-2-3-2-2-2-3-2-2-3-2-2-4/
LOCATION:Plage Talmont Saint Hilaire\, La Guittière
ATTACH;FMTTYPE=image/jpeg:https://titiayoga.com/wp-content/uploads/2021/05/tarifs-titia-yoga.jpg
END:VEVENT
BEGIN:VEVENT
DTSTART;TZID=Europe/Paris:20250424T150000
DTEND;TZID=Europe/Paris:20250424T160000
DTSTAMP:20260424T133848
CREATED:20221222T220940Z
LAST-MODIFIED:20250314T093406Z
UID:18593-1745506800-1745510400@titiayoga.com
SUMMARY:MEDITATION/RELAX/ ORACLES "Cultiver la Gratitude"
DESCRIPTION:[vc_row][vc_column][vc_btn title= »RESERVER » i_icon_fontawesome= »fas fa-calendar-check » add_icon= »true » link= »url:https%3A%2F%2Ftitiayoga.com%2Fcontactez-moi-pour-infos-et-rdv%2F|title:Contactez-moi%20pour%20infos%20ou%20rdv »][vc_column_text][/vc_column_text][/vc_column][/vc_row][vc_row][vc_column][vc_column_text]20 euros la séance\, matériel compris\, au sein d’un petit groupe de 7 personnes.\nCarnet de 5 séances à 95 euros/personne (valable 6 mois). \nAnnulation 48 h à l’avance sinon la séance est dûe : non modifiable\, non remboursable\, sans exception. \nSéance annulée 48 heures avant : la séance est reportable 1 seule fois à votre convenance\, pendant 6 mois.[/vc_column_text][/vc_column][/vc_row]
URL:https://titiayoga.com/event/meditation-relax-tirage-de-cartes-2-4-3-2-2-2-2-3-2-3-2-2-3-2-5-2-2-2-3-3-3-4-3-2-5-3-2-2-3-2-2-2-4-3-2-2-4-2-2-2-3-3-3-2-2-2-2-2/
LOCATION:Salle Cocoon 150 avenue de Luçon Talmont Saint Hilaire
ATTACH;FMTTYPE=image/jpeg:https://titiayoga.com/wp-content/uploads/2021/05/tarifs-titia-yoga.jpg
END:VEVENT
BEGIN:VEVENT
DTSTART;TZID=Europe/Paris:20250425T144500
DTEND;TZID=Europe/Paris:20250425T160000
DTSTAMP:20260424T133848
CREATED:20221222T231209Z
LAST-MODIFIED:20250314T093208Z
UID:18589-1745592300-1745596800@titiayoga.com
SUMMARY:YOGA DOUX
DESCRIPTION:[vc_row][vc_column][vc_btn title= »RESERVER » i_icon_fontawesome= »fas fa-calendar-check » add_icon= »true » link= »url:https%3A%2F%2Ftitiayoga.com%2Fcontactez-moi-pour-infos-et-rdv%2F »][vc_column_text]20 euros la séance\, matériel compris\, au sein d’un petit groupe de 6 à 7 personnes\nCarnet de 5 séances : 95 euros valable 6 mois \nAnnulation 48 h à l’avance sinon la séance est dûe : non modifiable\, non remboursable\, sans exception. \nSéance annulée 48 heures avant : la séance est reportable 1 seule fois à votre convenance\, pendant 6 mois.[/vc_column_text][/vc_column][/vc_row]
URL:https://titiayoga.com/event/yoga-sagesse-seniors-3-2-2-2-2-2-2-2-2-2-3-2-2-3-2-3-2-3-4-2-2-2-2-2-2-2-2-2-14-2-2-2-2-2-3-2-2-2-2-2-2-2-2-3-2-2-2/
LOCATION:Salle Cocoon 150 avenue de Luçon Talmont Saint Hilaire
ATTACH;FMTTYPE=image/jpeg:https://titiayoga.com/wp-content/uploads/2021/03/titia-yoga-fertilite-1.jpg
END:VEVENT
BEGIN:VEVENT
DTSTART;TZID=Europe/Paris:20250428T110000
DTEND;TZID=Europe/Paris:20250428T120000
DTSTAMP:20260424T133848
CREATED:20221222T220940Z
LAST-MODIFIED:20250328T092720Z
UID:18994-1745838000-1745841600@titiayoga.com
SUMMARY:RDV INDIVIDUEL ou Duo
DESCRIPTION:[vc_row][vc_column][vc_btn title= »RESERVER » i_icon_fontawesome= »fas fa-calendar-check » add_icon= »true » link= »url:https%3A%2F%2Ftitiayoga.com%2Fcontactez-moi-pour-infos-et-rdv%2F|title:Contactez-moi%20pour%20infos%20ou%20rdv »][vc_column_text][/vc_column_text][/vc_column][/vc_row][vc_row][vc_column][vc_column_text] \n\nRDVS  :\n\n\n 𝑺𝑬𝑹𝑬𝑵𝑰𝑻𝑬 :\n𝖴𝗇𝖾 𝖽𝗈𝗎𝖼𝖾 𝖼𝗈𝗆𝗉𝗈𝗌𝗂𝗍𝗂𝗈𝗇 𝖽é𝖿𝗂𝗇𝗂𝖾 𝖾𝗇𝗍𝗋𝖾 𝗏𝗈𝗌 𝖻𝖾𝗌𝗈𝗂𝗇𝗌 𝖾𝗍 𝗆𝖾𝗌 𝗋𝖾𝗌𝗌𝖾𝗇𝗍𝗂𝗌 :\n𝖬é𝖽𝗂𝗍𝖺𝗍𝗂𝗈𝗇\, 𝗋𝖾𝗌𝗉𝗂𝗋𝖺𝗍𝗂𝗈𝗇\, 𝗋𝖾𝗅𝖺𝗑𝖺𝗍𝗂𝗈𝗇\, 𝖼𝗁𝖾𝗆𝗂𝗇 𝖽𝖾 𝗏𝗂𝖾\, 𝗈𝗋𝖺𝖼𝗅𝖾𝗌\, échanges.\nPour tous : 68 euros\n𝖠𝖽𝗈 : 5 euros\nMission de Vie : 65 euros\nPrénatal : 1h 65 euros\, 1h30 75 euros\nPost-partum : 65 euros\n\n 𝑮𝑼𝑰𝑫𝑨𝑵𝑪𝑬 :\n E𝗍𝗋𝖾 𝗀𝗎𝗂𝖽é 𝗉𝖺𝗋 𝗅𝖾𝗌 𝖼𝖺𝗋𝗍𝖾𝗌 𝖾𝗍 𝗆𝖾𝗌 𝗂𝗇𝗍𝗎𝗂𝗍𝗂𝗈𝗇𝗌. 65 euros\n\n 𝑭𝑨𝑴𝑰𝑳𝑳𝑬  :\n-𝖬𝖺𝗌𝗌𝖺𝗀𝖾 𝖡é𝖻é\, 68 euros en duo\n-𝖸𝗈𝗀𝖺 𝖡é𝖻é\, 68 euros en duo\n-𝖡é𝖡é𝖱𝖾𝗅𝖺𝗑 (𝖬𝖺𝗌𝗌𝖺𝗀𝖾 𝖡𝖾́𝖻𝖾 + 𝖸𝗈𝗀𝖺 𝖡é𝖻𝖾é + 𝖢𝗈𝗇𝖼𝖾𝗉𝗍𝗂𝗈𝗇 𝗁𝗎𝗂𝗅𝖾 𝗏é𝗀é𝗍𝖺𝗅𝖾 𝟣𝟢𝟢% 𝗇𝖺𝗍𝗎𝗋𝖾𝗅𝗅𝖾) 73 euros\n-𝖸𝗈𝗀𝖺 𝖯𝖺𝗋𝖾𝗇𝗍-𝖤𝗇𝖿𝖺𝗇𝗍/Ado\, 73 euros en duo\n\n\n[/vc_column_text][/vc_column][/vc_row]
URL:https://titiayoga.com/event/meditation-relax-tirage-de-cartes-2-4-3-2-2-2-2-3-2-3-2-2-3-2-5-2-2-2-3-3-3-4-3-2-5-3-2-2-3-2-2-2-3-2-2-4-2-5-2-2-2-5-3-4-2-2-5-5-2-2-4-2-2-4-2-2-2-3-3-2-2-2-2-2-2-2-6-5/
LOCATION:Salle Cocoon 150 avenue de Luçon Talmont Saint Hilaire
ATTACH;FMTTYPE=image/jpeg:https://titiayoga.com/wp-content/uploads/2021/05/tarifs-titia-yoga.jpg
END:VEVENT
BEGIN:VEVENT
DTSTART;TZID=Europe/Paris:20250428T180000
DTEND;TZID=Europe/Paris:20250428T190000
DTSTAMP:20260424T133848
CREATED:20221222T220940Z
LAST-MODIFIED:20250318T095444Z
UID:18742-1745863200-1745866800@titiayoga.com
SUMMARY:SEANCE "ORACLES"
DESCRIPTION:[vc_row][vc_column][vc_btn title= »RESERVER » i_icon_fontawesome= »fas fa-calendar-check » add_icon= »true » link= »url:https%3A%2F%2Ftitiayoga.com%2Fcontactez-moi-pour-infos-et-rdv%2F|title:Contactez-moi%20pour%20infos%20ou%20rdv »][vc_column_text][/vc_column_text][/vc_column][/vc_row][vc_row][vc_column][vc_column_text]20 euros la séance\, matériel compris\, au sein d’un petit groupe de 7 personnes.\nCarnet de 5 séances à 95 euros/personne (valable 6 mois). \nAnnulation 48 h à l’avance sinon la séance est dûe : non modifiable\, non remboursable\, sans exception. \nSéance annulée 48 heures avant : la séance est reportable 1 seule fois à votre convenance\, pendant 6 mois.[/vc_column_text][/vc_column][/vc_row]
URL:https://titiayoga.com/event/meditation-relax-tirage-de-cartes-2-4-3-2-2-2-2-3-2-3-2-2-3-2-5-2-2-2-3-3-3-4-3-2-5-3-2-2-3-2-2-2-4-3-2-2-4-2-2-2-3-3-3-2-3-2/
LOCATION:Salle Cocoon 150 avenue de Luçon Talmont Saint Hilaire
ATTACH;FMTTYPE=image/jpeg:https://titiayoga.com/wp-content/uploads/2021/05/tarifs-titia-yoga.jpg
END:VEVENT
BEGIN:VEVENT
DTSTART;TZID=Europe/Paris:20250429T170000
DTEND;TZID=Europe/Paris:20250429T180000
DTSTAMP:20260424T133848
CREATED:20221222T235224Z
LAST-MODIFIED:20250313T205013Z
UID:18620-1745946000-1745949600@titiayoga.com
SUMMARY:YOGA FAMILLE "S'aimer"
DESCRIPTION:[vc_row][vc_column][vc_btn title= »RESERVER » i_icon_fontawesome= »fas fa-calendar-check » add_icon= »true » link= »url:https%3A%2F%2Ftitiayoga.com%2Fcontactez-moi-pour-infos-et-rdv%2F »][vc_column_text][/vc_column_text][vc_column_text]Dès 3 ans à 12 ans. \n19 euros par personne.\nCarnet de 5 séances à 90 euros/personne (valable 6 mois) soit 180 euros pour un duo. Carte utilisable pour toute la famille : maman\, papa\, fratrie\, grands-parents. \nAnnulation 48 h à l’avance sinon la séance est dûe : non modifiable\, non remboursable\, sans exception. \nSéance annulée 48 heures avant : la séance est reportable 1 seule fois à votre convenance\, pendant 6 mois.[/vc_column_text][/vc_column][/vc_row]
URL:https://titiayoga.com/event/yoga-parents-enfants-proches-4-3-3-2-2-2-3-2-2-3-2-2-4-2-2-2-2-2-2-2-5-2-3-2-2-4-2-3-2-2-2-4-2-3-8-2-2-3-2-2-3-2-2-2-2-2-2-3-2-2/
LOCATION:Salle Cocoon 150 avenue de Luçon Talmont Saint Hilaire
ATTACH;FMTTYPE=image/jpeg:https://titiayoga.com/wp-content/uploads/2021/03/titia-yoga-enfant-3.jpg
END:VEVENT
END:VCALENDAR